FILENAME: O4710720.SWS.1116685.tif
QUADRANGLE_NAME: SCHUYLER BUTTE
QUADRANT: SW
WEST_LONGITUDE: -107 37 30.00000
EAST_LONGITUDE: -107 33 45.00000
NORTH_LATITUDE: 47 41 15.00000
SOUTH_LATITUDE: 47 37 30.00000
PRODUCTION_DATE: 2000 11 14
RASTER_ORDER: LEFT_RIGHT/TOP_BOTTOM
BAND_ORGANIZATION: SINGLE FILE
BAND_CONTENT: BLACK&WHITE
BAND_CONTENT: UNDEFINED
BAND_CONTENT: UNDEFINED
BITS_PER_PIXEL: 8
SAMPLES_AND_LINES: 5578 7707
HORIZONTAL_DATUM: NAD83
HORIZONTAL_COORDINATE_SYSTEM: UTM
COORDINATE_ZONE: 13
HORIZONTAL_UNITS: METERS
HORIZONTAL_RESOLUTION: 1.00000
SECONDARY_HORIZONTAL_DATUM: NAD27
XY_ORIGIN: 302427.00000 5285208.00000
SECONDARY_XY_ORIGIN: 302470.46800 5284987.57000
NATION: US
NATION: "SCIENCE
STATE: MT
NW_QUAD_CORNER_XY: 303013.56800 5284906.10600
NE_QUAD_CORNER_XY: 307703.42700 5284749.00000
SE_QUAD_CORNERY_XY: 307473.67800 5277803.44000
SW_QUAD_CORNER_XY: 302778.20900 5277960.57700
SECONDARY_NW_QUAD_XY: 303007.40800 5284687.41400
SECONDARY_NE_QUAD_XY: 307697.41400 5284530.30400
SECONDARY_SE_QUAD_XY: 307467.66600 5277584.76300
SECONDARY_SW_QUAD_XY: 302772.05000 5277741.90500
RMSE_XY: 3.30000
IMAGE_SOURCE: BLACK AND WHITE FILM
SOURCE_IMAGE_ID: NAPP 9131 050
SOURCE_IMAGE_DATE: 1996 07 29
SOURCE_IMAGE_ID: NAPP 9131 049
SOURCE_IMAGE_DATE: 1996 07 29
SOURCE_DEM_DATE: 1982 00 00
AGENCY: WESTERN MAPPING CENTER (WMC)
PRODUCER: UNDEFINED
PRODUCTION_SYSTEM: GIS/MAGIC
COMPRESSION: UNDEFINED
STANDARD_VERSION: 1996 12
METADATA_DATE: 2000 11 30
DATA_FILE_SIZE: 42995224
BYTE_COUNT: 5578
