FILENAME: O4710721.SES.1116736.tif
QUADRANGLE_NAME: SWEDE RIDGE
QUADRANT: SE
WEST_LONGITUDE: -107 26 15.00000
EAST_LONGITUDE: -107 22 30.00000
NORTH_LATITUDE: 47 41 15.00000
SOUTH_LATITUDE: 47 37 30.00000
PRODUCTION_DATE: 2000 11 14
RASTER_ORDER: LEFT_RIGHT/TOP_BOTTOM
BAND_ORGANIZATION: SINGLE FILE
BAND_CONTENT: BLACK&WHITE
BAND_CONTENT: UNDEFINED
BAND_CONTENT: UNDEFINED
BITS_PER_PIXEL: 8
SAMPLES_AND_LINES: 5561 7697
HORIZONTAL_DATUM: NAD83
HORIZONTAL_COORDINATE_SYSTEM: UTM
COORDINATE_ZONE: 13
HORIZONTAL_UNITS: METERS
HORIZONTAL_RESOLUTION: 1.00000
SECONDARY_HORIZONTAL_DATUM: NAD27
XY_ORIGIN: 316514.00000 5284749.00000
SECONDARY_XY_ORIGIN: 316557.37100 5284528.37700
NATION: US
NATION: "SCIENCE
STATE: MT
NW_QUAD_CORNER_XY: 317083.20800 5284446.15800
NE_QUAD_CORNER_XY: 321773.13000 5284300.42100
SE_QUAD_CORNERY_XY: 321560.20900 5277354.77100
SW_QUAD_CORNER_XY: 316864.67900 5277500.53700
SECONDARY_NW_QUAD_XY: 317077.48800 5284227.45200
SECONDARY_NE_QUAD_XY: 321767.55700 5284081.71100
SECONDARY_SE_QUAD_XY: 321554.63700 5277136.08000
SECONDARY_SW_QUAD_XY: 316858.96000 5277281.85100
RMSE_XY: 1.90000
IMAGE_SOURCE: BLACK AND WHITE FILM
SOURCE_IMAGE_ID: NAPP 9127 150
SOURCE_IMAGE_DATE: 1996 07 15
SOURCE_IMAGE_ID: NAPP 9127 151
SOURCE_IMAGE_DATE: 1996 07 15
SOURCE_IMAGE_ID: NAPP 9127 149
SOURCE_IMAGE_DATE: 1996 07 15
SOURCE_DEM_DATE: 1970 00 00
AGENCY: WESTERN MAPPING CENTER (WMC)
PRODUCER: UNDEFINED
PRODUCTION_SYSTEM: GIS/MAGIC
COMPRESSION: UNDEFINED
STANDARD_VERSION: 1996 12
METADATA_DATE: 2000 11 30
DATA_FILE_SIZE: 42808578
BYTE_COUNT: 5561
