FILENAME: O4710723.NES.1115020.tif
QUADRANGLE_NAME: WAGON COULEE
QUADRANT: NE
WEST_LONGITUDE: -107 11 15.00000
EAST_LONGITUDE: -107 7 30.00000
NORTH_LATITUDE: 47 45 0.00000
SOUTH_LATITUDE: 47 41 15.00000
PRODUCTION_DATE: 2000 11 13
RASTER_ORDER: LEFT_RIGHT/TOP_BOTTOM
BAND_ORGANIZATION: SINGLE FILE
BAND_CONTENT: BLACK&WHITE
BAND_CONTENT: UNDEFINED
BAND_CONTENT: UNDEFINED
BITS_PER_PIXEL: 8
SAMPLES_AND_LINES: 5532 7681
HORIZONTAL_DATUM: NAD83
HORIZONTAL_COORDINATE_SYSTEM: UTM
COORDINATE_ZONE: 13
HORIZONTAL_UNITS: METERS
HORIZONTAL_RESOLUTION: 1.00000
SECONDARY_HORIZONTAL_DATUM: NAD27
XY_ORIGIN: 335493.00000 5291134.00000
SECONDARY_XY_ORIGIN: 335535.97000 5290913.05400
NATION: US
NATION: "SCIENCE
STATE: MT
NW_QUAD_CORNER_XY: 336039.30300 5290831.74300
NE_QUAD_CORNER_XY: 340723.68800 5290701.18800
SE_QUAD_CORNERY_XY: 340533.00800 5283755.36200
SW_QUAD_CORNER_XY: 335843.01100 5283885.94400
SECONDARY_NW_QUAD_XY: 336034.17000 5290613.00100
SECONDARY_NE_QUAD_XY: 340718.70100 5290482.44200
SECONDARY_SE_QUAD_XY: 340528.02100 5283536.63500
SECONDARY_SW_QUAD_XY: 335837.87700 5283667.22100
RMSE_XY: 1.80000
IMAGE_SOURCE: BLACK AND WHITE FILM
SOURCE_IMAGE_ID: NAPP 9101 218
SOURCE_IMAGE_DATE: 1996 07 15
SOURCE_IMAGE_ID: NAPP 9101 219
SOURCE_IMAGE_DATE: 1996 07 15
SOURCE_IMAGE_ID: NAPP 9101 217
SOURCE_IMAGE_DATE: 1996 07 15
SOURCE_DEM_DATE: 1993 00 00
AGENCY: WESTERN MAPPING CENTER (WMC)
PRODUCER: UNDEFINED
PRODUCTION_SYSTEM: GIS/MAGIC
COMPRESSION: UNDEFINED
STANDARD_VERSION: 1996 12
METADATA_DATE: 2000 11 17
DATA_FILE_SIZE: 42496824
BYTE_COUNT: 5532
