FILENAME: O4710728.NWS.1112191.tif
QUADRANGLE_NAME: PINE GROVE SCHOOL
QUADRANT: NW
WEST_LONGITUDE: -107 37 30.00000
EAST_LONGITUDE: -107 33 45.00000
NORTH_LATITUDE: 47 37 30.00000
SOUTH_LATITUDE: 47 33 45.00000
PRODUCTION_DATE: 2000 11 16
RASTER_ORDER: LEFT_RIGHT/TOP_BOTTOM
BAND_ORGANIZATION: SINGLE FILE
BAND_CONTENT: BLACK&WHITE
BAND_CONTENT: UNDEFINED
BAND_CONTENT: UNDEFINED
BITS_PER_PIXEL: 8
SAMPLES_AND_LINES: 5583 7708
HORIZONTAL_DATUM: NAD83
HORIZONTAL_COORDINATE_SYSTEM: UTM
COORDINATE_ZONE: 13
HORIZONTAL_UNITS: METERS
HORIZONTAL_RESOLUTION: 1.00000
SECONDARY_HORIZONTAL_DATUM: NAD27
XY_ORIGIN: 302192.00000 5278263.00000
SECONDARY_XY_ORIGIN: 302235.45300 5278042.56200
NATION: US
NATION: "SCIENCE
STATE: MT
NW_QUAD_CORNER_XY: 302778.20900 5277960.57700
NE_QUAD_CORNER_XY: 307473.67800 5277803.44000
SE_QUAD_CORNERY_XY: 307244.16000 5270857.94000
SW_QUAD_CORNER_XY: 302543.08600 5271015.10900
SECONDARY_NW_QUAD_XY: 302772.05000 5277741.90500
SECONDARY_NE_QUAD_XY: 307467.66600 5277584.76300
SECONDARY_SE_QUAD_XY: 307238.14900 5270639.28400
SECONDARY_SW_QUAD_XY: 302536.92800 5270796.45700
RMSE_XY: 2.70000
IMAGE_SOURCE: BLACK AND WHITE FILM
SOURCE_IMAGE_ID: NAPP 9131 048
SOURCE_IMAGE_DATE: 1996 07 29
SOURCE_IMAGE_ID: NAPP 9131 047
SOURCE_IMAGE_DATE: 1996 07 29
SOURCE_IMAGE_ID: NAPP 9131 049
SOURCE_IMAGE_DATE: 1996 07 29
SOURCE_DEM_DATE: 1964 00 00
AGENCY: WESTERN MAPPING CENTER (WMC)
PRODUCER: UNDEFINED
PRODUCTION_SYSTEM: GIS/MAGIC
COMPRESSION: UNDEFINED
STANDARD_VERSION: 1996 12
METADATA_DATE: 2000 11 16
DATA_FILE_SIZE: 43039347
BYTE_COUNT: 5583
