FILENAME: O4710730.NWS.1114967.tif
QUADRANGLE_NAME: CHALK BUTTE
QUADRANT: NW
WEST_LONGITUDE: -107 22 30.00000
EAST_LONGITUDE: -107 18 45.00000
NORTH_LATITUDE: 47 37 30.00000
SOUTH_LATITUDE: 47 33 45.00000
PRODUCTION_DATE: 2000 11 9
RASTER_ORDER: LEFT_RIGHT/TOP_BOTTOM
BAND_ORGANIZATION: SINGLE FILE
BAND_CONTENT: BLACK&WHITE
BAND_CONTENT: UNDEFINED
BAND_CONTENT: UNDEFINED
BITS_PER_PIXEL: 8
SAMPLES_AND_LINES: 5560 7692
HORIZONTAL_DATUM: NAD83
HORIZONTAL_COORDINATE_SYSTEM: UTM
COORDINATE_ZONE: 13
HORIZONTAL_UNITS: METERS
HORIZONTAL_RESOLUTION: 1.00000
SECONDARY_HORIZONTAL_DATUM: NAD27
XY_ORIGIN: 320997.00000 5277657.00000
SECONDARY_XY_ORIGIN: 321040.26900 5277436.39700
NATION: US
NATION: "SCIENCE
STATE: MT
NW_QUAD_CORNER_XY: 321560.20900 5277354.77100
NE_QUAD_CORNER_XY: 326255.75900 5277212.79400
SE_QUAD_CORNERY_XY: 326048.65600 5270267.17900
SW_QUAD_CORNER_XY: 321347.50300 5270409.18300
SECONDARY_NW_QUAD_XY: 321554.63700 5277136.08000
SECONDARY_NE_QUAD_XY: 326250.33300 5276994.09900
SECONDARY_SE_QUAD_XY: 326043.23000 5270048.50400
SECONDARY_SW_QUAD_XY: 321341.93100 5270190.51300
RMSE_XY: 1.80000
IMAGE_SOURCE: BLACK AND WHITE FILM
SOURCE_IMAGE_ID: NAPP 9127 069
SOURCE_IMAGE_DATE: 1996 07 15
SOURCE_IMAGE_ID: NAPP 9127 151
SOURCE_IMAGE_DATE: 1996 07 15
SOURCE_IMAGE_ID: NAPP 9127 068
SOURCE_IMAGE_DATE: 1996 07 15
SOURCE_IMAGE_ID: NAPP 9127 070
SOURCE_IMAGE_DATE: 1996 07 15
SOURCE_IMAGE_ID: NAPP 9127 045
SOURCE_IMAGE_DATE: 1996 07 15
SOURCE_DEM_DATE: 1982 00 00
AGENCY: WESTERN MAPPING CENTER (WMC)
PRODUCER: UNDEFINED
PRODUCTION_SYSTEM: GIS/MAGIC
COMPRESSION: UNDEFINED
STANDARD_VERSION: 1996 12
METADATA_DATE: 2000 11 17
DATA_FILE_SIZE: 42773080
BYTE_COUNT: 5560
