FILENAME: O4710731.NWS.1115001.tif
QUADRANGLE_NAME: HELL HOLLOW
QUADRANT: NW
WEST_LONGITUDE: -107 15 0.00000
EAST_LONGITUDE: -107 11 15.00000
NORTH_LATITUDE: 47 37 30.00000
SOUTH_LATITUDE: 47 33 45.00000
PRODUCTION_DATE: 2000 11 16
RASTER_ORDER: LEFT_RIGHT/TOP_BOTTOM
BAND_ORGANIZATION: SINGLE FILE
BAND_CONTENT: BLACK&WHITE
BAND_CONTENT: UNDEFINED
BAND_CONTENT: UNDEFINED
BITS_PER_PIXEL: 8
SAMPLES_AND_LINES: 5548 7685
HORIZONTAL_DATUM: NAD83
HORIZONTAL_COORDINATE_SYSTEM: UTM
COORDINATE_ZONE: 13
HORIZONTAL_UNITS: METERS
HORIZONTAL_RESOLUTION: 1.00000
SECONDARY_HORIZONTAL_DATUM: NAD27
XY_ORIGIN: 330400.00000 5277377.00000
SECONDARY_XY_ORIGIN: 330443.11800 5277156.32700
NATION: US
NATION: "SCIENCE
STATE: MT
NW_QUAD_CORNER_XY: 330951.32800 5277074.60800
NE_QUAD_CORNER_XY: 335646.91500 5276940.21000
SE_QUAD_CORNERY_XY: 335451.01500 5269994.54200
SW_QUAD_CORNER_XY: 330749.82700 5270128.96500
SECONDARY_NW_QUAD_XY: 330946.04900 5276855.90800
SECONDARY_NE_QUAD_XY: 335641.78200 5276721.50700
SECONDARY_SE_QUAD_XY: 335445.88400 5269775.85800
SECONDARY_SW_QUAD_XY: 330744.54800 5269910.28600
RMSE_XY: 1.00000
IMAGE_SOURCE: BLACK AND WHITE FILM
SOURCE_IMAGE_ID: NAPP 9101 245
SOURCE_IMAGE_DATE: 1996 07 15
SOURCE_IMAGE_ID: NAPP 9127 045
SOURCE_IMAGE_DATE: 1996 07 15
SOURCE_IMAGE_ID: NAPP 9101 246
SOURCE_IMAGE_DATE: 1996 07 15
SOURCE_DEM_DATE: 1982 00 00
AGENCY: WESTERN MAPPING CENTER (WMC)
PRODUCER: UNDEFINED
PRODUCTION_SYSTEM: GIS/MAGIC
COMPRESSION: UNDEFINED
STANDARD_VERSION: 1996 12
METADATA_DATE: 2000 11 17
DATA_FILE_SIZE: 42641928
BYTE_COUNT: 5548
