FILENAME: O4710733.SWS.1112137.tif
QUADRANGLE_NAME: GERMAINE COULEE WEST
QUADRANT: SW
WEST_LONGITUDE: -108 0 0.00000
EAST_LONGITUDE: -107 56 15.00000
NORTH_LATITUDE: 47 26 15.00000
SOUTH_LATITUDE: 47 22 30.00000
PRODUCTION_DATE: 2000 11 16
RASTER_ORDER: LEFT_RIGHT/TOP_BOTTOM
BAND_ORGANIZATION: SINGLE FILE
BAND_CONTENT: BLACK&WHITE
BAND_CONTENT: UNDEFINED
BAND_CONTENT: UNDEFINED
BITS_PER_PIXEL: 8
SAMPLES_AND_LINES: 5634 7729
HORIZONTAL_DATUM: NAD83
HORIZONTAL_COORDINATE_SYSTEM: UTM
COORDINATE_ZONE: 13
HORIZONTAL_UNITS: METERS
HORIZONTAL_RESOLUTION: 1.00000
SECONDARY_HORIZONTAL_DATUM: NAD27
XY_ORIGIN: 273180.00000 5258449.00000
SECONDARY_XY_ORIGIN: 273223.62300 5258228.89900
NATION: US
NATION: "SCIENCE
STATE: MT
NW_QUAD_CORNER_XY: 273800.38700 5258147.39300
NE_QUAD_CORNER_XY: 278512.52600 5257967.39900
SE_QUAD_CORNERY_XY: 278250.16700 5251022.26500
SW_QUAD_CORNER_XY: 273532.43600 5251202.29200
SECONDARY_NW_QUAD_XY: 273793.35000 5257928.81600
SECONDARY_NE_QUAD_XY: 278505.63600 5257748.81700
SECONDARY_SE_QUAD_XY: 278243.27700 5250803.70600
SECONDARY_SW_QUAD_XY: 273525.40000 5250983.73800
RMSE_XY: 1.50000
IMAGE_SOURCE: BLACK AND WHITE FILM
SOURCE_IMAGE_ID: NAPP 9157 195
SOURCE_IMAGE_DATE: 1997 09 05
SOURCE_DEM_DATE: 1964 00 00
AGENCY: WESTERN MAPPING CENTER (WMC)
PRODUCER: UNDEFINED
PRODUCTION_SYSTEM: GIS/MAGIC
COMPRESSION: UNDEFINED
STANDARD_VERSION: 1996 12
METADATA_DATE: 2000 11 16
DATA_FILE_SIZE: 43550820
BYTE_COUNT: 5634
