FILENAME: O4710733.NES.1112134.tif
QUADRANGLE_NAME: GERMAINE COULEE WEST
QUADRANT: NE
WEST_LONGITUDE: -107 56 15.00000
EAST_LONGITUDE: -107 52 30.00000
NORTH_LATITUDE: 47 30 0.00000
SOUTH_LATITUDE: 47 26 15.00000
PRODUCTION_DATE: 2000 11 16
RASTER_ORDER: LEFT_RIGHT/TOP_BOTTOM
BAND_ORGANIZATION: SINGLE FILE
BAND_CONTENT: BLACK&WHITE
BAND_CONTENT: UNDEFINED
BAND_CONTENT: UNDEFINED
BITS_PER_PIXEL: 8
SAMPLES_AND_LINES: 5622 7726
HORIZONTAL_DATUM: NAD83
HORIZONTAL_COORDINATE_SYSTEM: UTM
COORDINATE_ZONE: 13
HORIZONTAL_UNITS: METERS
HORIZONTAL_RESOLUTION: 1.00000
SECONDARY_HORIZONTAL_DATUM: NAD27
XY_ORIGIN: 278161.00000 5265215.00000
SECONDARY_XY_ORIGIN: 278204.56100 5264994.66300
NATION: US
NATION: "SCIENCE
STATE: MT
NW_QUAD_CORNER_XY: 278775.15100 5264912.58900
NE_QUAD_CORNER_XY: 283481.71700 5264736.42400
SE_QUAD_CORNERY_XY: 283224.68800 5257791.20100
SW_QUAD_CORNER_XY: 278512.52600 5257967.39900
SECONDARY_NW_QUAD_XY: 278768.26000 5264693.98500
SECONDARY_NE_QUAD_XY: 283474.97200 5264517.81500
SECONDARY_SE_QUAD_XY: 283217.94500 5257572.61300
SECONDARY_SW_QUAD_XY: 278505.63600 5257748.81700
RMSE_XY: 2.00000
IMAGE_SOURCE: BLACK AND WHITE FILM
SOURCE_IMAGE_ID: NAPP 9132 113
SOURCE_IMAGE_DATE: 1996 07 29
SOURCE_IMAGE_ID: NAPP 9157 196
SOURCE_IMAGE_DATE: 1997 09 05
SOURCE_DEM_DATE: 1964 00 00
AGENCY: WESTERN MAPPING CENTER (WMC)
PRODUCER: UNDEFINED
PRODUCTION_SYSTEM: GIS/MAGIC
COMPRESSION: UNDEFINED
STANDARD_VERSION: 1996 12
METADATA_DATE: 2000 11 16
DATA_FILE_SIZE: 43441194
BYTE_COUNT: 5622
