FILENAME: O4710739.SES.1115006.tif
QUADRANGLE_NAME: MOONLIGHT CREEK
QUADRANT: SE
WEST_LONGITUDE: -107 11 15.00000
EAST_LONGITUDE: -107 7 30.00000
NORTH_LATITUDE: 47 26 15.00000
SOUTH_LATITUDE: 47 22 30.00000
PRODUCTION_DATE: 2000 11 16
RASTER_ORDER: LEFT_RIGHT/TOP_BOTTOM
BAND_ORGANIZATION: SINGLE FILE
BAND_CONTENT: BLACK&WHITE
BAND_CONTENT: UNDEFINED
BAND_CONTENT: UNDEFINED
BITS_PER_PIXEL: 8
SAMPLES_AND_LINES: 5559 7681
HORIZONTAL_DATUM: NAD83
HORIZONTAL_COORDINATE_SYSTEM: UTM
COORDINATE_ZONE: 13
HORIZONTAL_UNITS: METERS
HORIZONTAL_RESOLUTION: 1.00000
SECONDARY_HORIZONTAL_DATUM: NAD27
XY_ORIGIN: 334515.00000 5256406.00000
SECONDARY_XY_ORIGIN: 334558.03400 5256185.71300
NATION: US
NATION: "SCIENCE
STATE: MT
NW_QUAD_CORNER_XY: 335059.80900 5256103.39900
NE_QUAD_CORNER_XY: 339772.20200 5255972.71600
SE_QUAD_CORNERY_XY: 339582.47900 5249027.21800
SW_QUAD_CORNER_XY: 334864.50200 5249157.92500
SECONDARY_NW_QUAD_XY: 335054.67800 5255884.75900
SECONDARY_NE_QUAD_XY: 339767.21700 5255754.07100
SECONDARY_SE_QUAD_XY: 339577.49600 5248808.59700
SECONDARY_SW_QUAD_XY: 334859.37200 5248939.30800
RMSE_XY: 0.70000
IMAGE_SOURCE: BLACK AND WHITE FILM
SOURCE_IMAGE_ID: NAPP 9101 228
SOURCE_IMAGE_DATE: 1996 07 15
SOURCE_DEM_DATE: 1979 00 00
AGENCY: WESTERN MAPPING CENTER (WMC)
PRODUCER: UNDEFINED
PRODUCTION_SYSTEM: GIS/MAGIC
COMPRESSION: UNDEFINED
STANDARD_VERSION: 1996 12
METADATA_DATE: 2000 11 17
DATA_FILE_SIZE: 42704238
BYTE_COUNT: 5559
