FILENAME: O4710739.NWS.1115005.tif
QUADRANGLE_NAME: MOONLIGHT CREEK
QUADRANT: NW
WEST_LONGITUDE: -107 15 0.00000
EAST_LONGITUDE: -107 11 15.00000
NORTH_LATITUDE: 47 30 0.00000
SOUTH_LATITUDE: 47 26 15.00000
PRODUCTION_DATE: 2000 11 16
RASTER_ORDER: LEFT_RIGHT/TOP_BOTTOM
BAND_ORGANIZATION: SINGLE FILE
BAND_CONTENT: BLACK&WHITE
BAND_CONTENT: UNDEFINED
BAND_CONTENT: UNDEFINED
BITS_PER_PIXEL: 8
SAMPLES_AND_LINES: 5559 7685
HORIZONTAL_DATUM: NAD83
HORIZONTAL_COORDINATE_SYSTEM: UTM
COORDINATE_ZONE: 13
HORIZONTAL_UNITS: METERS
HORIZONTAL_RESOLUTION: 1.00000
SECONDARY_HORIZONTAL_DATUM: NAD27
XY_ORIGIN: 329998.00000 5263486.00000
SECONDARY_XY_ORIGIN: 330041.13900 5263265.59200
NATION: US
NATION: "SCIENCE
STATE: MT
NW_QUAD_CORNER_XY: 330548.52800 5263183.38700
NE_QUAD_CORNER_XY: 335255.31300 5263048.93800
SE_QUAD_CORNERY_XY: 335059.80900 5256103.39900
SW_QUAD_CORNER_XY: 330347.43300 5256237.87400
SECONDARY_NW_QUAD_XY: 330543.25000 5262964.72900
SECONDARY_NE_QUAD_XY: 335250.18200 5262830.27500
SECONDARY_SE_QUAD_XY: 335054.67800 5255884.75900
SECONDARY_SW_QUAD_XY: 330342.15500 5256019.23700
RMSE_XY: 0.90000
IMAGE_SOURCE: BLACK AND WHITE FILM
SOURCE_IMAGE_ID: NAPP 9101 241
SOURCE_IMAGE_DATE: 1996 07 15
SOURCE_DEM_DATE: 1979 00 00
AGENCY: WESTERN MAPPING CENTER (WMC)
PRODUCER: UNDEFINED
PRODUCTION_SYSTEM: GIS/MAGIC
COMPRESSION: UNDEFINED
STANDARD_VERSION: 1996 12
METADATA_DATE: 2000 11 17
DATA_FILE_SIZE: 42726474
BYTE_COUNT: 5559
