FILENAME: O4710740.NES.1115040.tif
QUADRANGLE_NAME: BISCUIT BUTTE
QUADRANT: NE
WEST_LONGITUDE: -107 3 45.00000
EAST_LONGITUDE: -107 0 0.00000
NORTH_LATITUDE: 47 30 0.00000
SOUTH_LATITUDE: 47 26 15.00000
PRODUCTION_DATE: 2000 11 16
RASTER_ORDER: LEFT_RIGHT/TOP_BOTTOM
BAND_ORGANIZATION: SINGLE FILE
BAND_CONTENT: BLACK&WHITE
BAND_CONTENT: UNDEFINED
BAND_CONTENT: UNDEFINED
BITS_PER_PIXEL: 8
SAMPLES_AND_LINES: 5542 7674
HORIZONTAL_DATUM: NAD83
HORIZONTAL_COORDINATE_SYSTEM: UTM
COORDINATE_ZONE: 13
HORIZONTAL_UNITS: METERS
HORIZONTAL_RESOLUTION: 1.00000
SECONDARY_HORIZONTAL_DATUM: NAD27
XY_ORIGIN: 344135.00000 5263094.00000
SECONDARY_XY_ORIGIN: 344177.83100 5262873.65200
NATION: US
NATION: "SCIENCE
STATE: MT
NW_QUAD_CORNER_XY: 344668.93400 5262791.41000
NE_QUAD_CORNER_XY: 349375.76900 5262668.33100
SE_QUAD_CORNERY_XY: 349197.03500 5255722.72200
SW_QUAD_CORNER_XY: 344484.61000 5255845.82300
SECONDARY_NW_QUAD_XY: 344664.09600 5262572.74000
SECONDARY_NE_QUAD_XY: 349371.07800 5262449.65700
SECONDARY_SE_QUAD_XY: 349192.34400 5255504.06900
SECONDARY_SW_QUAD_XY: 344479.77300 5255627.17500
RMSE_XY: 1.30000
IMAGE_SOURCE: BLACK AND WHITE FILM
SOURCE_IMAGE_ID: NAPP 9101 114
SOURCE_IMAGE_DATE: 1996 07 15
SOURCE_DEM_DATE: 1979 00 00
AGENCY: WESTERN MAPPING CENTER (WMC)
PRODUCER: UNDEFINED
PRODUCTION_SYSTEM: GIS/MAGIC
COMPRESSION: UNDEFINED
STANDARD_VERSION: 1996 12
METADATA_DATE: 2000 11 17
DATA_FILE_SIZE: 42534850
BYTE_COUNT: 5542
