FILENAME: O4710743.NWS.1112171.tif
QUADRANGLE_NAME: BENZIEN
QUADRANT: NW
WEST_LONGITUDE: -107 45 0.00000
EAST_LONGITUDE: -107 41 15.00000
NORTH_LATITUDE: 47 22 30.00000
SOUTH_LATITUDE: 47 18 45.00000
PRODUCTION_DATE: 2000 11 16
RASTER_ORDER: LEFT_RIGHT/TOP_BOTTOM
BAND_ORGANIZATION: SINGLE FILE
BAND_CONTENT: BLACK&WHITE
BAND_CONTENT: UNDEFINED
BAND_CONTENT: UNDEFINED
BITS_PER_PIXEL: 8
SAMPLES_AND_LINES: 5616 7715
HORIZONTAL_DATUM: NAD83
HORIZONTAL_COORDINATE_SYSTEM: UTM
COORDINATE_ZONE: 13
HORIZONTAL_UNITS: METERS
HORIZONTAL_RESOLUTION: 1.00000
SECONDARY_HORIZONTAL_DATUM: NAD27
XY_ORIGIN: 291807.00000 5250807.00000
SECONDARY_XY_ORIGIN: 291850.54800 5250586.77700
NATION: US
NATION: "SCIENCE
STATE: MT
NW_QUAD_CORNER_XY: 292403.48800 5250504.96000
NE_QUAD_CORNER_XY: 297121.30300 5250340.11500
SE_QUAD_CORNERY_XY: 296881.54500 5243394.91600
SW_QUAD_CORNER_XY: 292158.14700 5243559.79100
SECONDARY_NW_QUAD_XY: 292397.03800 5250286.38500
SECONDARY_NE_QUAD_XY: 297115.00000 5250121.53500
SECONDARY_SE_QUAD_XY: 296875.24300 5243176.35900
SECONDARY_SW_QUAD_XY: 292151.69800 5243341.23900
RMSE_XY: 2.70000
IMAGE_SOURCE: BLACK AND WHITE FILM
SOURCE_IMAGE_ID: NAPP 9131 179
SOURCE_IMAGE_DATE: 1996 07 29
SOURCE_IMAGE_ID: NAPP 9131 180
SOURCE_IMAGE_DATE: 1996 07 29
SOURCE_DEM_DATE: 1993 00 00
AGENCY: WESTERN MAPPING CENTER (WMC)
PRODUCER: UNDEFINED
PRODUCTION_SYSTEM: GIS/MAGIC
COMPRESSION: UNDEFINED
STANDARD_VERSION: 1996 12
METADATA_DATE: 2000 11 16
DATA_FILE_SIZE: 43333056
BYTE_COUNT: 5616
