FILENAME: O4710744.SWS.1112201.tif
QUADRANGLE_NAME: HAY COULEE
QUADRANT: SW
WEST_LONGITUDE: -107 37 30.00000
EAST_LONGITUDE: -107 33 45.00000
NORTH_LATITUDE: 47 18 45.00000
SOUTH_LATITUDE: 47 15 0.00000
PRODUCTION_DATE: 2000 11 6
RASTER_ORDER: LEFT_RIGHT/TOP_BOTTOM
BAND_ORGANIZATION: SINGLE FILE
BAND_CONTENT: BLACK&WHITE
BAND_CONTENT: UNDEFINED
BAND_CONTENT: UNDEFINED
BITS_PER_PIXEL: 8
SAMPLES_AND_LINES: 5610 7707
HORIZONTAL_DATUM: NAD83
HORIZONTAL_COORDINATE_SYSTEM: UTM
COORDINATE_ZONE: 13
HORIZONTAL_UNITS: METERS
HORIZONTAL_RESOLUTION: 1.00000
SECONDARY_HORIZONTAL_DATUM: NAD27
XY_ORIGIN: 301020.00000 5243536.00000
SECONDARY_XY_ORIGIN: 301063.48600 5243315.84000
NATION: US
NATION: "SCIENCE
STATE: MT
NW_QUAD_CORNER_XY: 301604.96300 5243233.83700
NE_QUAD_CORNER_XY: 306328.40000 5243076.55300
SE_QUAD_CORNERY_XY: 306100.03800 5236131.35800
SW_QUAD_CORNER_XY: 301371.02500 5236288.67000
SECONDARY_NW_QUAD_XY: 301598.80700 5243015.27500
SECONDARY_NE_QUAD_XY: 306322.39100 5242857.98500
SECONDARY_SE_QUAD_XY: 306094.03000 5235912.81500
SECONDARY_SW_QUAD_XY: 301364.87000 5236070.13200
RMSE_XY: 2.50000
IMAGE_SOURCE: BLACK AND WHITE FILM
SOURCE_IMAGE_ID: NAPP 9131 038
SOURCE_IMAGE_DATE: 1996 07 29
SOURCE_IMAGE_ID: NAPP 9131 039
SOURCE_IMAGE_DATE: 1996 07 29
SOURCE_DEM_DATE: 1993 00 00
AGENCY: WESTERN MAPPING CENTER (WMC)
PRODUCER: UNDEFINED
PRODUCTION_SYSTEM: GIS/MAGIC
COMPRESSION: UNDEFINED
STANDARD_VERSION: 1996 12
METADATA_DATE: 2000 11 16
DATA_FILE_SIZE: 43241880
BYTE_COUNT: 5610
