FILENAME: O4710744.SES.1112200.tif
QUADRANGLE_NAME: HAY COULEE
QUADRANT: SE
WEST_LONGITUDE: -107 33 45.00000
EAST_LONGITUDE: -107 30 0.00000
NORTH_LATITUDE: 47 18 45.00000
SOUTH_LATITUDE: 47 15 0.00000
PRODUCTION_DATE: 2000 11 7
RASTER_ORDER: LEFT_RIGHT/TOP_BOTTOM
BAND_ORGANIZATION: SINGLE FILE
BAND_CONTENT: BLACK&WHITE
BAND_CONTENT: UNDEFINED
BAND_CONTENT: UNDEFINED
BITS_PER_PIXEL: 8
SAMPLES_AND_LINES: 5604 7704
HORIZONTAL_DATUM: NAD83
HORIZONTAL_COORDINATE_SYSTEM: UTM
COORDINATE_ZONE: 13
HORIZONTAL_UNITS: METERS
HORIZONTAL_RESOLUTION: 1.00000
SECONDARY_HORIZONTAL_DATUM: NAD27
XY_ORIGIN: 305749.00000 5243379.00000
SECONDARY_XY_ORIGIN: 305792.43800 5243158.81800
NATION: US
NATION: "SCIENCE
STATE: MT
NW_QUAD_CORNER_XY: 306328.40000 5243076.55300
NE_QUAD_CORNER_XY: 311051.85500 5242923.06200
SE_QUAD_CORNERY_XY: 310829.07000 5235977.84100
SW_QUAD_CORNER_XY: 306100.03800 5236131.35800
SECONDARY_NW_QUAD_XY: 306322.39100 5242857.98500
SECONDARY_NE_QUAD_XY: 311045.99200 5242704.49100
SECONDARY_SE_QUAD_XY: 310823.20800 5235759.29400
SECONDARY_SW_QUAD_XY: 306094.03000 5235912.81500
RMSE_XY: 1.80000
IMAGE_SOURCE: BLACK AND WHITE FILM
SOURCE_IMAGE_ID: NAPP 9127 252
SOURCE_IMAGE_DATE: 1996 07 15
SOURCE_IMAGE_ID: NAPP 9127 251
SOURCE_IMAGE_DATE: 1996 07 15
SOURCE_DEM_DATE: 1993 00 00
AGENCY: WESTERN MAPPING CENTER (WMC)
PRODUCER: UNDEFINED
PRODUCTION_SYSTEM: GIS/MAGIC
COMPRESSION: UNDEFINED
STANDARD_VERSION: 1996 12
METADATA_DATE: 2000 11 16
DATA_FILE_SIZE: 43178820
BYTE_COUNT: 5604
