FILENAME: O4710745.NWS.1112215.tif
QUADRANGLE_NAME: STEVE FORKS SW
QUADRANT: NW
WEST_LONGITUDE: -107 30 0.00000
EAST_LONGITUDE: -107 26 15.00000
NORTH_LATITUDE: 47 22 30.00000
SOUTH_LATITUDE: 47 18 45.00000
PRODUCTION_DATE: 2000 11 7
RASTER_ORDER: LEFT_RIGHT/TOP_BOTTOM
BAND_ORGANIZATION: SINGLE FILE
BAND_CONTENT: BLACK&WHITE
BAND_CONTENT: UNDEFINED
BAND_CONTENT: UNDEFINED
BITS_PER_PIXEL: 8
SAMPLES_AND_LINES: 5593 7700
HORIZONTAL_DATUM: NAD83
HORIZONTAL_COORDINATE_SYSTEM: UTM
COORDINATE_ZONE: 13
HORIZONTAL_UNITS: METERS
HORIZONTAL_RESOLUTION: 1.00000
SECONDARY_HORIZONTAL_DATUM: NAD27
XY_ORIGIN: 310701.00000 5250171.00000
SECONDARY_XY_ORIGIN: 310744.38100 5249950.70300
NATION: US
NATION: "SCIENCE
STATE: MT
NW_QUAD_CORNER_XY: 311274.86600 5249868.34500
NE_QUAD_CORNER_XY: 315992.75800 5249718.67600
SE_QUAD_CORNERY_XY: 315775.32800 5242773.36600
SW_QUAD_CORNER_XY: 311051.85500 5242923.06200
SECONDARY_NW_QUAD_XY: 311269.00300 5249649.75000
SECONDARY_NE_QUAD_XY: 315987.04200 5249500.07600
SECONDARY_SE_QUAD_XY: 315769.61200 5242554.79000
SECONDARY_SW_QUAD_XY: 311045.99200 5242704.49100
RMSE_XY: 0.90000
IMAGE_SOURCE: BLACK AND WHITE FILM
SOURCE_IMAGE_ID: NAPP 9127 167
SOURCE_IMAGE_DATE: 1996 07 15
SOURCE_DEM_DATE: 1979 00 00
AGENCY: WESTERN MAPPING CENTER (WMC)
PRODUCER: UNDEFINED
PRODUCTION_SYSTEM: GIS/MAGIC
COMPRESSION: UNDEFINED
STANDARD_VERSION: 1996 12
METADATA_DATE: 2000 11 17
DATA_FILE_SIZE: 43071693
BYTE_COUNT: 5593
