FILENAME: O4710746.NWS.1114975.tif
QUADRANGLE_NAME: STEVE FORKS
QUADRANT: NW
WEST_LONGITUDE: -107 22 30.00000
EAST_LONGITUDE: -107 18 45.00000
NORTH_LATITUDE: 47 22 30.00000
SOUTH_LATITUDE: 47 18 45.00000
PRODUCTION_DATE: 2000 11 9
RASTER_ORDER: LEFT_RIGHT/TOP_BOTTOM
BAND_ORGANIZATION: SINGLE FILE
BAND_CONTENT: BLACK&WHITE
BAND_CONTENT: UNDEFINED
BAND_CONTENT: UNDEFINED
BITS_PER_PIXEL: 8
SAMPLES_AND_LINES: 5582 7692
HORIZONTAL_DATUM: NAD83
HORIZONTAL_COORDINATE_SYSTEM: UTM
COORDINATE_ZONE: 13
HORIZONTAL_UNITS: METERS
HORIZONTAL_RESOLUTION: 1.00000
SECONDARY_HORIZONTAL_DATUM: NAD27
XY_ORIGIN: 320148.00000 5249875.00000
SECONDARY_XY_ORIGIN: 320191.25600 5249654.74400
NATION: US
NATION: "SCIENCE
STATE: MT
NW_QUAD_CORNER_XY: 320710.66800 5249572.79900
NE_QUAD_CORNER_XY: 325428.59600 5249430.71600
SE_QUAD_CORNERY_XY: 325222.32700 5242485.35500
SW_QUAD_CORNER_XY: 320498.81900 5242627.46400
SECONDARY_NW_QUAD_XY: 320705.09800 5249354.19500
SECONDARY_NE_QUAD_XY: 325423.17300 5249212.10700
SECONDARY_SE_QUAD_XY: 325216.90400 5242266.77000
SECONDARY_SW_QUAD_XY: 320493.25000 5242408.88300
RMSE_XY: 0.70000
IMAGE_SOURCE: BLACK AND WHITE FILM
SOURCE_IMAGE_ID: NAPP 9127 061
SOURCE_IMAGE_DATE: 1996 07 15
SOURCE_DEM_DATE: 1979 00 00
AGENCY: WESTERN MAPPING CENTER (WMC)
PRODUCER: UNDEFINED
PRODUCTION_SYSTEM: GIS/MAGIC
COMPRESSION: UNDEFINED
STANDARD_VERSION: 1996 12
METADATA_DATE: 2000 11 17
DATA_FILE_SIZE: 42942326
BYTE_COUNT: 5582
