FILENAME: O4710747.NES.1115008.tif
QUADRANGLE_NAME: SMOKY BUTTE CREEK
QUADRANT: NE
WEST_LONGITUDE: -107 11 15.00000
EAST_LONGITUDE: -107 7 30.00000
NORTH_LATITUDE: 47 22 30.00000
SOUTH_LATITUDE: 47 18 45.00000
PRODUCTION_DATE: 2000 11 16
RASTER_ORDER: LEFT_RIGHT/TOP_BOTTOM
BAND_ORGANIZATION: SINGLE FILE
BAND_CONTENT: BLACK&WHITE
BAND_CONTENT: UNDEFINED
BAND_CONTENT: UNDEFINED
BITS_PER_PIXEL: 8
SAMPLES_AND_LINES: 5564 7681
HORIZONTAL_DATUM: NAD83
HORIZONTAL_COORDINATE_SYSTEM: UTM
COORDINATE_ZONE: 13
HORIZONTAL_UNITS: METERS
HORIZONTAL_RESOLUTION: 1.00000
SECONDARY_HORIZONTAL_DATUM: NAD27
XY_ORIGIN: 334320.00000 5249460.00000
SECONDARY_XY_ORIGIN: 334363.03100 5249239.81400
NATION: US
NATION: "SCIENCE
STATE: MT
NW_QUAD_CORNER_XY: 334864.50200 5249157.92500
NE_QUAD_CORNER_XY: 339582.47900 5249027.21800
SE_QUAD_CORNERY_XY: 339392.94900 5242081.78700
SW_QUAD_CORNER_XY: 334669.39300 5242212.51700
SECONDARY_NW_QUAD_XY: 334859.37200 5248939.30800
SECONDARY_NE_QUAD_XY: 339577.49600 5248808.59700
SECONDARY_SE_QUAD_XY: 339387.96600 5241863.18900
SECONDARY_SW_QUAD_XY: 334664.26300 5241993.92300
RMSE_XY: 0.70000
IMAGE_SOURCE: BLACK AND WHITE FILM
SOURCE_IMAGE_ID: NAPP 9101 230
SOURCE_IMAGE_DATE: 1996 07 15
SOURCE_DEM_DATE: 1979 00 00
AGENCY: WESTERN MAPPING CENTER (WMC)
PRODUCER: UNDEFINED
PRODUCTION_SYSTEM: GIS/MAGIC
COMPRESSION: UNDEFINED
STANDARD_VERSION: 1996 12
METADATA_DATE: 2000 11 17
DATA_FILE_SIZE: 42742648
BYTE_COUNT: 5564
