FILENAME: O4710748.SWS.1115047.tif
QUADRANGLE_NAME: SMOKY BUTTE
QUADRANT: SW
WEST_LONGITUDE: -107 7 30.00000
EAST_LONGITUDE: -107 3 45.00000
NORTH_LATITUDE: 47 18 45.00000
SOUTH_LATITUDE: 47 15 0.00000
PRODUCTION_DATE: 2000 11 16
RASTER_ORDER: LEFT_RIGHT/TOP_BOTTOM
BAND_ORGANIZATION: SINGLE FILE
BAND_CONTENT: BLACK&WHITE
BAND_CONTENT: UNDEFINED
BAND_CONTENT: UNDEFINED
BITS_PER_PIXEL: 8
SAMPLES_AND_LINES: 5564 7677
HORIZONTAL_DATUM: NAD83
HORIZONTAL_COORDINATE_SYSTEM: UTM
COORDINATE_ZONE: 13
HORIZONTAL_UNITS: METERS
HORIZONTAL_RESOLUTION: 1.00000
SECONDARY_HORIZONTAL_DATUM: NAD27
XY_ORIGIN: 338854.00000 5242384.00000
SECONDARY_XY_ORIGIN: 338896.92400 5242163.95900
NATION: US
NATION: "SCIENCE
STATE: MT
NW_QUAD_CORNER_XY: 339392.94900 5242081.78700
NE_QUAD_CORNER_XY: 344116.52100 5241954.84900
SE_QUAD_CORNERY_XY: 343932.75600 5235009.46100
SW_QUAD_CORNER_XY: 339203.61100 5235136.42100
SECONDARY_NW_QUAD_XY: 339387.96600 5241863.18900
SECONDARY_NE_QUAD_XY: 344111.68500 5241736.24700
SECONDARY_SE_QUAD_XY: 343927.92100 5234790.88300
SECONDARY_SW_QUAD_XY: 339198.62900 5234917.84700
RMSE_XY: 0.90000
IMAGE_SOURCE: BLACK AND WHITE FILM
SOURCE_IMAGE_ID: NAPP 9101 119
SOURCE_IMAGE_DATE: 1996 07 15
SOURCE_DEM_DATE: 1979 00 00
AGENCY: WESTERN MAPPING CENTER (WMC)
PRODUCER: UNDEFINED
PRODUCTION_SYSTEM: GIS/MAGIC
COMPRESSION: UNDEFINED
STANDARD_VERSION: 1996 12
METADATA_DATE: 2000 11 17
DATA_FILE_SIZE: 42720392
BYTE_COUNT: 5564
