FILENAME: O4710748.NES.1115044.tif
QUADRANGLE_NAME: SMOKY BUTTE
QUADRANT: NE
WEST_LONGITUDE: -107 3 45.00000
EAST_LONGITUDE: -107 0 0.00000
NORTH_LATITUDE: 47 22 30.00000
SOUTH_LATITUDE: 47 18 45.00000
PRODUCTION_DATE: 2000 11 16
RASTER_ORDER: LEFT_RIGHT/TOP_BOTTOM
BAND_ORGANIZATION: SINGLE FILE
BAND_CONTENT: BLACK&WHITE
BAND_CONTENT: UNDEFINED
BAND_CONTENT: UNDEFINED
BITS_PER_PIXEL: 8
SAMPLES_AND_LINES: 5553 7673
HORIZONTAL_DATUM: NAD83
HORIZONTAL_COORDINATE_SYSTEM: UTM
COORDINATE_ZONE: 13
HORIZONTAL_UNITS: METERS
HORIZONTAL_RESOLUTION: 1.00000
SECONDARY_HORIZONTAL_DATUM: NAD27
XY_ORIGIN: 343767.00000 5249202.00000
SECONDARY_XY_ORIGIN: 343809.82300 5248981.88300
NATION: US
NATION: "SCIENCE
STATE: MT
NW_QUAD_CORNER_XY: 344300.47200 5248900.30300
NE_QUAD_CORNER_XY: 349018.48100 5248777.17900
SE_QUAD_CORNERY_XY: 348840.10800 5241831.70300
SW_QUAD_CORNER_XY: 344116.52100 5241954.84900
SECONDARY_NW_QUAD_XY: 344295.63500 5248681.67700
SECONDARY_NE_QUAD_XY: 349013.79000 5248558.54900
SECONDARY_SE_QUAD_XY: 348835.41800 5241613.09700
SECONDARY_SW_QUAD_XY: 344111.68500 5241736.24700
RMSE_XY: 1.10000
IMAGE_SOURCE: BLACK AND WHITE FILM
SOURCE_IMAGE_ID: NAPP 9099 089
SOURCE_IMAGE_DATE: 1996 07 14
SOURCE_DEM_DATE: 1979 00 00
AGENCY: WESTERN MAPPING CENTER (WMC)
PRODUCER: UNDEFINED
PRODUCTION_SYSTEM: GIS/MAGIC
COMPRESSION: UNDEFINED
STANDARD_VERSION: 1996 12
METADATA_DATE: 2000 11 17
DATA_FILE_SIZE: 42613722
BYTE_COUNT: 5553
