FILENAME: O4710750.NWS.1112147.tif
QUADRANGLE_NAME: LELIG COULEE
QUADRANT: NW
WEST_LONGITUDE: -107 52 30.00000
EAST_LONGITUDE: -107 48 45.00000
NORTH_LATITUDE: 47 15 0.00000
SOUTH_LATITUDE: 47 11 15.00000
PRODUCTION_DATE: 2000 11 16
RASTER_ORDER: LEFT_RIGHT/TOP_BOTTOM
BAND_ORGANIZATION: SINGLE FILE
BAND_CONTENT: BLACK&WHITE
BAND_CONTENT: UNDEFINED
BAND_CONTENT: UNDEFINED
BITS_PER_PIXEL: 8
SAMPLES_AND_LINES: 5639 7722
HORIZONTAL_DATUM: NAD83
HORIZONTAL_COORDINATE_SYSTEM: UTM
COORDINATE_ZONE: 13
HORIZONTAL_UNITS: METERS
HORIZONTAL_RESOLUTION: 1.00000
SECONDARY_HORIZONTAL_DATUM: NAD27
XY_ORIGIN: 281847.00000 5237258.00000
SECONDARY_XY_ORIGIN: 281890.66700 5237038.25900
NATION: US
NATION: "SCIENCE
STATE: MT
NW_QUAD_CORNER_XY: 282455.16100 5236955.87400
NE_QUAD_CORNER_XY: 287184.09700 5236783.37900
SE_QUAD_CORNERY_XY: 286933.68200 5229838.35400
SW_QUAD_CORNER_XY: 282199.17200 5230010.87900
SECONDARY_NW_QUAD_XY: 282448.42000 5236737.35700
SECONDARY_NE_QUAD_XY: 287177.50300 5236564.85600
SECONDARY_SE_QUAD_XY: 286927.08800 5229619.85700
SECONDARY_SW_QUAD_XY: 282192.43200 5229792.38700
RMSE_XY: 1.80000
IMAGE_SOURCE: BLACK AND WHITE FILM
SOURCE_IMAGE_ID: NAPP 9132 062
SOURCE_IMAGE_DATE: 1996 07 29
SOURCE_IMAGE_ID: NAPP 9132 061
SOURCE_IMAGE_DATE: 1996 07 29
SOURCE_IMAGE_ID: NAPP 9132 063
SOURCE_IMAGE_DATE: 1996 07 29
SOURCE_DEM_DATE: 1993 00 00
AGENCY: WESTERN MAPPING CENTER (WMC)
PRODUCER: UNDEFINED
PRODUCTION_SYSTEM: GIS/MAGIC
COMPRESSION: UNDEFINED
STANDARD_VERSION: 1996 12
METADATA_DATE: 2000 11 16
DATA_FILE_SIZE: 43549997
BYTE_COUNT: 5639
