FILENAME: O4710757.NWS.1112127.tif
QUADRANGLE_NAME: FAIL RANCH
QUADRANT: NW
WEST_LONGITUDE: -108 0 0.00000
EAST_LONGITUDE: -107 56 15.00000
NORTH_LATITUDE: 47 7 30.00000
SOUTH_LATITUDE: 47 3 45.00000
PRODUCTION_DATE: 2000 11 16
RASTER_ORDER: LEFT_RIGHT/TOP_BOTTOM
BAND_ORGANIZATION: SINGLE FILE
BAND_CONTENT: BLACK&WHITE
BAND_CONTENT: UNDEFINED
BAND_CONTENT: UNDEFINED
BITS_PER_PIXEL: 8
SAMPLES_AND_LINES: 5661 7729
HORIZONTAL_DATUM: NAD83
HORIZONTAL_COORDINATE_SYSTEM: UTM
COORDINATE_ZONE: 13
HORIZONTAL_UNITS: METERS
HORIZONTAL_RESOLUTION: 1.00000
SECONDARY_HORIZONTAL_DATUM: NAD27
XY_ORIGIN: 271844.00000 5223724.00000
SECONDARY_XY_ORIGIN: 271887.89100 5223504.94400
NATION: US
NATION: "SCIENCE
STATE: MT
NW_QUAD_CORNER_XY: 272463.34700 5223422.44100
NE_QUAD_CORNER_XY: 277203.38500 5223242.29200
SE_QUAD_CORNERY_XY: 276942.35600 5216297.43900
SW_QUAD_CORNER_XY: 272196.75500 5216477.61700
SECONDARY_NW_QUAD_XY: 272456.31500 5223203.98600
SECONDARY_NE_QUAD_XY: 277196.50000 5223023.83200
SECONDARY_SE_QUAD_XY: 276935.47100 5216079.00600
SECONDARY_SW_QUAD_XY: 272189.72300 5216259.18900
RMSE_XY: 1.90000
IMAGE_SOURCE: BLACK AND WHITE FILM
SOURCE_IMAGE_ID: NAPP 9132 172
SOURCE_IMAGE_DATE: 1996 07 29
SOURCE_DEM_DATE: 1993 00 00
AGENCY: WESTERN MAPPING CENTER (WMC)
PRODUCER: UNDEFINED
PRODUCTION_SYSTEM: GIS/MAGIC
COMPRESSION: UNDEFINED
STANDARD_VERSION: 1996 12
METADATA_DATE: 2000 11 16
DATA_FILE_SIZE: 43759530
BYTE_COUNT: 5661
