FILENAME: O4710761.NWS.1112211.tif
QUADRANGLE_NAME: SAND SPRINGS
QUADRANT: NW
WEST_LONGITUDE: -107 30 0.00000
EAST_LONGITUDE: -107 26 15.00000
NORTH_LATITUDE: 47 7 30.00000
SOUTH_LATITUDE: 47 3 45.00000
PRODUCTION_DATE: 2000 11 7
RASTER_ORDER: LEFT_RIGHT/TOP_BOTTOM
BAND_ORGANIZATION: SINGLE FILE
BAND_CONTENT: BLACK&WHITE
BAND_CONTENT: UNDEFINED
BAND_CONTENT: UNDEFINED
BITS_PER_PIXEL: 8
SAMPLES_AND_LINES: 5615 7699
HORIZONTAL_DATUM: NAD83
HORIZONTAL_COORDINATE_SYSTEM: UTM
COORDINATE_ZONE: 13
HORIZONTAL_UNITS: METERS
HORIZONTAL_RESOLUTION: 1.00000
SECONDARY_HORIZONTAL_DATUM: NAD27
XY_ORIGIN: 309811.00000 5222389.00000
SECONDARY_XY_ORIGIN: 309854.46800 5222169.19600
NATION: US
NATION: "SCIENCE
STATE: MT
NW_QUAD_CORNER_XY: 310384.18000 5222087.58400
NE_QUAD_CORNER_XY: 315124.36300 5221937.81300
SE_QUAD_CORNERY_XY: 314907.81700 5214992.75300
SW_QUAD_CORNER_XY: 310162.07500 5215142.54800
SECONDARY_NW_QUAD_XY: 310378.32000 5221869.08800
SECONDARY_NE_QUAD_XY: 315118.64900 5221719.31200
SECONDARY_SE_QUAD_XY: 314902.10400 5214774.28000
SECONDARY_SW_QUAD_XY: 310156.21600 5214924.07900
RMSE_XY: 1.50000
IMAGE_SOURCE: BLACK AND WHITE FILM
SOURCE_IMAGE_ID: NAPP 9133 252
SOURCE_IMAGE_DATE: 1996 08 08
SOURCE_DEM_DATE: 1993 00 00
AGENCY: WESTERN MAPPING CENTER (WMC)
PRODUCER: UNDEFINED
PRODUCTION_SYSTEM: GIS/MAGIC
COMPRESSION: UNDEFINED
STANDARD_VERSION: 1996 12
METADATA_DATE: 2000 11 16
DATA_FILE_SIZE: 43235500
BYTE_COUNT: 5615
