FILENAME: O4710762.SWS.1114965.tif
QUADRANGLE_NAME: ROBERTSON SCHOOL
QUADRANT: SW
WEST_LONGITUDE: -107 22 30.00000
EAST_LONGITUDE: -107 18 45.00000
NORTH_LATITUDE: 47 3 45.00000
SOUTH_LATITUDE: 47 0 0.00000
PRODUCTION_DATE: 2000 11 9
RASTER_ORDER: LEFT_RIGHT/TOP_BOTTOM
BAND_ORGANIZATION: SINGLE FILE
BAND_CONTENT: BLACK&WHITE
BAND_CONTENT: UNDEFINED
BAND_CONTENT: UNDEFINED
BITS_PER_PIXEL: 8
SAMPLES_AND_LINES: 5609 7691
HORIZONTAL_DATUM: NAD83
HORIZONTAL_COORDINATE_SYSTEM: UTM
COORDINATE_ZONE: 13
HORIZONTAL_UNITS: METERS
HORIZONTAL_RESOLUTION: 1.00000
SECONDARY_HORIZONTAL_DATUM: NAD27
XY_ORIGIN: 319092.00000 5215148.00000
SECONDARY_XY_ORIGIN: 319135.31300 5214928.35100
NATION: US
NATION: "SCIENCE
STATE: MT
NW_QUAD_CORNER_XY: 319653.57500 5214846.75400
NE_QUAD_CORNER_XY: 324399.34800 5214704.55200
SE_QUAD_CORNERY_XY: 324194.12800 5207759.51000
SW_QUAD_CORNER_XY: 319442.80300 5207901.73500
SECONDARY_NW_QUAD_XY: 319648.00900 5214628.27600
SECONDARY_NE_QUAD_XY: 324393.92800 5214486.06900
SECONDARY_SE_QUAD_XY: 324188.70900 5207541.05600
SECONDARY_SW_QUAD_XY: 319437.23800 5207683.28500
RMSE_XY: 1.90000
IMAGE_SOURCE: BLACK AND WHITE FILM
SOURCE_IMAGE_ID: NAPP 9133 104
SOURCE_IMAGE_DATE: 1996 08 08
SOURCE_IMAGE_ID: NAPP 9133 120
SOURCE_IMAGE_DATE: 1996 08 08
SOURCE_IMAGE_ID: NAPP 9133 102
SOURCE_IMAGE_DATE: 1996 08 08
SOURCE_IMAGE_ID: NAPP 9133 105
SOURCE_IMAGE_DATE: 1996 08 08
SOURCE_DEM_DATE: 1993 00 00
AGENCY: WESTERN MAPPING CENTER (WMC)
PRODUCER: UNDEFINED
PRODUCTION_SYSTEM: GIS/MAGIC
COMPRESSION: UNDEFINED
STANDARD_VERSION: 1996 12
METADATA_DATE: 2000 11 17
DATA_FILE_SIZE: 43144428
BYTE_COUNT: 5609
