FILENAME: O4710762.SES.1114964.tif
QUADRANGLE_NAME: ROBERTSON SCHOOL
QUADRANT: SE
WEST_LONGITUDE: -107 18 45.00000
EAST_LONGITUDE: -107 15 0.00000
NORTH_LATITUDE: 47 3 45.00000
SOUTH_LATITUDE: 47 0 0.00000
PRODUCTION_DATE: 2000 11 9
RASTER_ORDER: LEFT_RIGHT/TOP_BOTTOM
BAND_ORGANIZATION: SINGLE FILE
BAND_CONTENT: BLACK&WHITE
BAND_CONTENT: UNDEFINED
BAND_CONTENT: UNDEFINED
BITS_PER_PIXEL: 8
SAMPLES_AND_LINES: 5603 7687
HORIZONTAL_DATUM: NAD83
HORIZONTAL_COORDINATE_SYSTEM: UTM
COORDINATE_ZONE: 13
HORIZONTAL_UNITS: METERS
HORIZONTAL_RESOLUTION: 1.00000
SECONDARY_HORIZONTAL_DATUM: NAD27
XY_ORIGIN: 323844.00000 5215006.00000
SECONDARY_XY_ORIGIN: 323887.21900 5214786.34700
NATION: US
NATION: "SCIENCE
STATE: MT
NW_QUAD_CORNER_XY: 324399.34800 5214704.55200
NE_QUAD_CORNER_XY: 329145.13600 5214566.14500
SE_QUAD_CORNERY_XY: 328945.46800 5207621.08200
SW_QUAD_CORNER_XY: 324194.12800 5207759.51000
SECONDARY_NW_QUAD_XY: 324393.92800 5214486.06900
SECONDARY_NE_QUAD_XY: 329139.86300 5214347.65800
SECONDARY_SE_QUAD_XY: 328940.19500 5207402.62300
SECONDARY_SW_QUAD_XY: 324188.70900 5207541.05600
RMSE_XY: 0.80000
IMAGE_SOURCE: BLACK AND WHITE FILM
SOURCE_IMAGE_ID: NAPP 9135 011
SOURCE_IMAGE_DATE: 1996 08 19
SOURCE_IMAGE_ID: NAPP 9135 012
SOURCE_IMAGE_DATE: 1996 08 19
SOURCE_IMAGE_ID: NAPP 10765 028
SOURCE_IMAGE_DATE: 1997 09 23
SOURCE_IMAGE_ID: NAPP 10765 029
SOURCE_IMAGE_DATE: 1997 09 23
SOURCE_DEM_DATE: 1993 00 00
AGENCY: WESTERN MAPPING CENTER (WMC)
PRODUCER: UNDEFINED
PRODUCTION_SYSTEM: GIS/MAGIC
COMPRESSION: UNDEFINED
STANDARD_VERSION: 1996 12
METADATA_DATE: 2000 11 17
DATA_FILE_SIZE: 43075864
BYTE_COUNT: 5603
