FILENAME: O4710764.SES.1115034.tif
QUADRANGLE_NAME: FIG MOUNTAIN
QUADRANT: SE
WEST_LONGITUDE: -107 3 45.00000
EAST_LONGITUDE: -107 0 0.00000
NORTH_LATITUDE: 47 3 45.00000
SOUTH_LATITUDE: 47 0 0.00000
PRODUCTION_DATE: 2000 11 16
RASTER_ORDER: LEFT_RIGHT/TOP_BOTTOM
BAND_ORGANIZATION: SINGLE FILE
BAND_CONTENT: BLACK&WHITE
BAND_CONTENT: UNDEFINED
BAND_CONTENT: UNDEFINED
BITS_PER_PIXEL: 8
SAMPLES_AND_LINES: 5580 7672
HORIZONTAL_DATUM: NAD83
HORIZONTAL_COORDINATE_SYSTEM: UTM
COORDINATE_ZONE: 13
HORIZONTAL_UNITS: METERS
HORIZONTAL_RESOLUTION: 1.00000
SECONDARY_HORIZONTAL_DATUM: NAD27
XY_ORIGIN: 342850.00000 5214475.00000
SECONDARY_XY_ORIGIN: 342892.79000 5214255.42700
NATION: US
NATION: "SCIENCE
STATE: MT
NW_QUAD_CORNER_XY: 343382.58500 5214173.69500
NE_QUAD_CORNER_XY: 348128.42900 5214050.46800
SE_QUAD_CORNERY_XY: 347950.96300 5207105.32700
SW_QUAD_CORNER_XY: 343199.56900 5207228.57300
SECONDARY_NW_QUAD_XY: 343377.75100 5213955.19600
SECONDARY_NE_QUAD_XY: 348123.74100 5213831.96600
SECONDARY_SE_QUAD_XY: 347946.27700 5206886.85200
SECONDARY_SW_QUAD_XY: 343194.73700 5207010.10200
RMSE_XY: 1.20000
IMAGE_SOURCE: BLACK AND WHITE FILM
SOURCE_IMAGE_ID: NAPP 9099 099
SOURCE_IMAGE_DATE: 1996 07 14
SOURCE_IMAGE_ID: NAPP 9099 100
SOURCE_IMAGE_DATE: 1996 07 14
SOURCE_IMAGE_ID: NAPP 9099 098
SOURCE_IMAGE_DATE: 1996 07 14
SOURCE_IMAGE_ID: NAPP 9099 076
SOURCE_IMAGE_DATE: 1996 07 14
SOURCE_DEM_DATE: 1964 00 00
AGENCY: WESTERN MAPPING CENTER (WMC)
PRODUCER: UNDEFINED
PRODUCTION_SYSTEM: GIS/MAGIC
COMPRESSION: UNDEFINED
STANDARD_VERSION: 1996 12
METADATA_DATE: 2000 11 17
DATA_FILE_SIZE: 42815340
BYTE_COUNT: 5580
