FILENAME: O4710601.SWS.1112257.tif
QUADRANGLE_NAME: COLLINS RESERVOIR
QUADRANT: SW
WEST_LONGITUDE: -107 0 0.00000
EAST_LONGITUDE: -106 56 15.00000
NORTH_LATITUDE: 47 56 15.00000
SOUTH_LATITUDE: 47 52 30.00000
PRODUCTION_DATE: 2000 11 14
RASTER_ORDER: LEFT_RIGHT/TOP_BOTTOM
BAND_ORGANIZATION: SINGLE FILE
BAND_CONTENT: BLACK&WHITE
BAND_CONTENT: UNDEFINED
BAND_CONTENT: UNDEFINED
BITS_PER_PIXEL: 8
SAMPLES_AND_LINES: 5498 7670
HORIZONTAL_DATUM: NAD83
HORIZONTAL_COORDINATE_SYSTEM: UTM
COORDINATE_ZONE: 13
HORIZONTAL_UNITS: METERS
HORIZONTAL_RESOLUTION: 1.00000
SECONDARY_HORIZONTAL_DATUM: NAD27
XY_ORIGIN: 350103.00000 5311592.00000
SECONDARY_XY_ORIGIN: 350145.17900 5311370.87800
NATION: US
NATION: "SCIENCE
STATE: MT
NW_QUAD_CORNER_XY: 350631.95300 5311289.46900
NE_QUAD_CORNER_XY: 355299.52100 5311170.35200
SE_QUAD_CORNERY_XY: 355125.15600 5304224.24800
SW_QUAD_CORNER_XY: 350451.95900 5304343.39200
SECONDARY_NW_QUAD_XY: 350627.25800 5311070.66500
SECONDARY_NE_QUAD_XY: 355294.97300 5310951.54300
SECONDARY_SE_QUAD_XY: 355120.60800 5304005.45600
SECONDARY_SW_QUAD_XY: 350447.26500 5304124.60400
RMSE_XY: 1.20000
IMAGE_SOURCE: BLACK AND WHITE FILM
SOURCE_IMAGE_ID: NAPP 9101 027
SOURCE_IMAGE_DATE: 1996 07 15
SOURCE_IMAGE_ID: NAPP 9101 101
SOURCE_IMAGE_DATE: 1996 07 15
SOURCE_DEM_DATE: 1985 00 00
AGENCY: WESTERN MAPPING CENTER (WMC)
PRODUCER: UNDEFINED
PRODUCTION_SYSTEM: GIS/MAGIC
COMPRESSION: UNDEFINED
STANDARD_VERSION: 1996 12
METADATA_DATE: 2000 11 17
DATA_FILE_SIZE: 42175158
BYTE_COUNT: 5498
