FILENAME: O4710601.NWS.1112255.tif
QUADRANGLE_NAME: COLLINS RESERVOIR
QUADRANT: NW
WEST_LONGITUDE: -107 0 0.00000
EAST_LONGITUDE: -106 56 15.00000
NORTH_LATITUDE: 48 0 0.00000
SOUTH_LATITUDE: 47 56 15.00000
PRODUCTION_DATE: 2000 11 14
RASTER_ORDER: LEFT_RIGHT/TOP_BOTTOM
BAND_ORGANIZATION: SINGLE FILE
BAND_CONTENT: BLACK&WHITE
BAND_CONTENT: UNDEFINED
BAND_CONTENT: UNDEFINED
BITS_PER_PIXEL: 8
SAMPLES_AND_LINES: 5492 7670
HORIZONTAL_DATUM: NAD83
HORIZONTAL_COORDINATE_SYSTEM: UTM
COORDINATE_ZONE: 13
HORIZONTAL_UNITS: METERS
HORIZONTAL_RESOLUTION: 1.00000
SECONDARY_HORIZONTAL_DATUM: NAD27
XY_ORIGIN: 350284.00000 5318538.00000
SECONDARY_XY_ORIGIN: 350326.04500 5318316.83600
NATION: US
NATION: "SCIENCE
STATE: MT
NW_QUAD_CORNER_XY: 350812.12500 5318235.61300
NE_QUAD_CORNER_XY: 355474.05900 5318116.52200
SE_QUAD_CORNERY_XY: 355299.52100 5311170.35200
SW_QUAD_CORNER_XY: 350631.95300 5311289.46900
SECONDARY_NW_QUAD_XY: 350807.43000 5318016.79400
SECONDARY_NE_QUAD_XY: 355469.51100 5317897.69900
SECONDARY_SE_QUAD_XY: 355294.97300 5310951.54300
SECONDARY_SW_QUAD_XY: 350627.25800 5311070.66500
RMSE_XY: 1.40000
IMAGE_SOURCE: BLACK AND WHITE FILM
SOURCE_IMAGE_ID: NAPP 9101 029
SOURCE_IMAGE_DATE: 1996 07 15
SOURCE_DEM_DATE: 1985 00 00
AGENCY: WESTERN MAPPING CENTER (WMC)
PRODUCER: UNDEFINED
PRODUCTION_SYSTEM: GIS/MAGIC
COMPRESSION: UNDEFINED
STANDARD_VERSION: 1996 12
METADATA_DATE: 2000 11 17
DATA_FILE_SIZE: 42129132
BYTE_COUNT: 5492
