FILENAME: O4710602.SWS.1112293.tif
QUADRANGLE_NAME: BOMBER COULEE
QUADRANT: SW
WEST_LONGITUDE: -106 52 30.00000
EAST_LONGITUDE: -106 48 45.00000
NORTH_LATITUDE: 47 56 15.00000
SOUTH_LATITUDE: 47 52 30.00000
PRODUCTION_DATE: 2000 11 14
RASTER_ORDER: LEFT_RIGHT/TOP_BOTTOM
BAND_ORGANIZATION: SINGLE FILE
BAND_CONTENT: BLACK&WHITE
BAND_CONTENT: UNDEFINED
BAND_CONTENT: UNDEFINED
BITS_PER_PIXEL: 8
SAMPLES_AND_LINES: 5486 7663
HORIZONTAL_DATUM: NAD83
HORIZONTAL_COORDINATE_SYSTEM: UTM
COORDINATE_ZONE: 13
HORIZONTAL_UNITS: METERS
HORIZONTAL_RESOLUTION: 1.00000
SECONDARY_HORIZONTAL_DATUM: NAD27
XY_ORIGIN: 359450.00000 5311358.00000
SECONDARY_XY_ORIGIN: 359491.88000 5311136.74300
NATION: US
NATION: "SCIENCE
STATE: MT
NW_QUAD_CORNER_XY: 359967.10600 5311055.01800
NE_QUAD_CORNER_XY: 364634.70900 5310943.46800
SE_QUAD_CORNERY_XY: 364471.60000 5303997.31400
SW_QUAD_CORNER_XY: 359798.37000 5304108.88900
SECONDARY_NW_QUAD_XY: 359962.70500 5310836.20600
SECONDARY_NE_QUAD_XY: 364630.45500 5310724.65200
SECONDARY_SE_QUAD_XY: 364467.34600 5303778.51500
SECONDARY_SW_QUAD_XY: 359793.96900 5303890.09300
RMSE_XY: 1.20000
IMAGE_SOURCE: BLACK AND WHITE FILM
SOURCE_IMAGE_ID: NAPP 9085 021
SOURCE_IMAGE_DATE: 1996 06 13
SOURCE_IMAGE_ID: NAPP 10723 055
SOURCE_IMAGE_DATE: 1997 08 28
SOURCE_DEM_DATE: 1985 00 00
AGENCY: WESTERN MAPPING CENTER (WMC)
PRODUCER: UNDEFINED
PRODUCTION_SYSTEM: GIS/MAGIC
COMPRESSION: UNDEFINED
STANDARD_VERSION: 1996 12
METADATA_DATE: 2000 11 17
DATA_FILE_SIZE: 42044704
BYTE_COUNT: 5486
