FILENAME: O4710602.NWS.1112291.tif
QUADRANGLE_NAME: BOMBER COULEE
QUADRANT: NW
WEST_LONGITUDE: -106 52 30.00000
EAST_LONGITUDE: -106 48 45.00000
NORTH_LATITUDE: 48 0 0.00000
SOUTH_LATITUDE: 47 56 15.00000
PRODUCTION_DATE: 2000 11 14
RASTER_ORDER: LEFT_RIGHT/TOP_BOTTOM
BAND_ORGANIZATION: SINGLE FILE
BAND_CONTENT: BLACK&WHITE
BAND_CONTENT: UNDEFINED
BAND_CONTENT: UNDEFINED
BITS_PER_PIXEL: 8
SAMPLES_AND_LINES: 5480 7663
HORIZONTAL_DATUM: NAD83
HORIZONTAL_COORDINATE_SYSTEM: UTM
COORDINATE_ZONE: 13
HORIZONTAL_UNITS: METERS
HORIZONTAL_RESOLUTION: 1.00000
SECONDARY_HORIZONTAL_DATUM: NAD27
XY_ORIGIN: 359619.00000 5318304.00000
SECONDARY_XY_ORIGIN: 359660.73100 5318082.63700
NATION: US
NATION: "SCIENCE
STATE: MT
NW_QUAD_CORNER_XY: 360136.01100 5318001.21400
NE_QUAD_CORNER_XY: 364797.98000 5317889.68900
SE_QUAD_CORNERY_XY: 364634.70900 5310943.46800
SW_QUAD_CORNER_XY: 359967.10600 5311055.01800
SECONDARY_NW_QUAD_XY: 360131.60900 5317782.38700
SECONDARY_NE_QUAD_XY: 364793.72500 5317670.85900
SECONDARY_SE_QUAD_XY: 364630.45500 5310724.65200
SECONDARY_SW_QUAD_XY: 359962.70500 5310836.20600
RMSE_XY: 1.10000
IMAGE_SOURCE: BLACK AND WHITE FILM
SOURCE_IMAGE_ID: NAPP 9085 023
SOURCE_IMAGE_DATE: 1996 06 13
SOURCE_DEM_DATE: 1985 00 00
AGENCY: WESTERN MAPPING CENTER (WMC)
PRODUCER: UNDEFINED
PRODUCTION_SYSTEM: GIS/MAGIC
COMPRESSION: UNDEFINED
STANDARD_VERSION: 1996 12
METADATA_DATE: 2000 11 17
DATA_FILE_SIZE: 41998720
BYTE_COUNT: 5480
