FILENAME: O4710603.NES.1112343.tif
QUADRANGLE_NAME: LEWIS RESERVOIR
QUADRANT: NE
WEST_LONGITUDE: -106 41 15.00000
EAST_LONGITUDE: -106 37 30.00000
NORTH_LATITUDE: 48 0 0.00000
SOUTH_LATITUDE: 47 56 15.00000
PRODUCTION_DATE: 2000 11 14
RASTER_ORDER: LEFT_RIGHT/TOP_BOTTOM
BAND_ORGANIZATION: SINGLE FILE
BAND_CONTENT: BLACK&WHITE
BAND_CONTENT: UNDEFINED
BAND_CONTENT: UNDEFINED
BITS_PER_PIXEL: 8
SAMPLES_AND_LINES: 5462 7652
HORIZONTAL_DATUM: NAD83
HORIZONTAL_COORDINATE_SYSTEM: UTM
COORDINATE_ZONE: 13
HORIZONTAL_UNITS: METERS
HORIZONTAL_RESOLUTION: 1.00000
SECONDARY_HORIZONTAL_DATUM: NAD27
XY_ORIGIN: 373623.00000 5317981.00000
SECONDARY_XY_ORIGIN: 373664.30300 5317759.40000
NATION: US
NATION: "SCIENCE
STATE: MT
NW_QUAD_CORNER_XY: 374121.96800 5317677.98700
NE_QUAD_CORNER_XY: 378783.98600 5317577.80900
SE_QUAD_CORNERY_XY: 378637.61300 5310631.51700
SW_QUAD_CORNER_XY: 373969.96300 5310731.71700
SECONDARY_NW_QUAD_XY: 374118.00700 5317459.14900
SECONDARY_NE_QUAD_XY: 378780.17100 5317358.96800
SECONDARY_SE_QUAD_XY: 378633.79800 5310412.69200
SECONDARY_SW_QUAD_XY: 373966.00200 5310512.89500
RMSE_XY: 1.10000
IMAGE_SOURCE: BLACK AND WHITE FILM
SOURCE_IMAGE_ID: NAPP 9111 123
SOURCE_IMAGE_DATE: 1996 08 11
SOURCE_DEM_DATE: 1993 00 00
AGENCY: WESTERN MAPPING CENTER (WMC)
PRODUCER: UNDEFINED
PRODUCTION_SYSTEM: GIS/MAGIC
COMPRESSION: UNDEFINED
STANDARD_VERSION: 1996 12
METADATA_DATE: 2000 11 16
DATA_FILE_SIZE: 41800686
BYTE_COUNT: 5462
