FILENAME: O4710604.NWS.1112392.tif
QUADRANGLE_NAME: SKUNK COULEE
QUADRANT: NW
WEST_LONGITUDE: -106 37 30.00000
EAST_LONGITUDE: -106 33 45.00000
NORTH_LATITUDE: 48 0 0.00000
SOUTH_LATITUDE: 47 56 15.00000
PRODUCTION_DATE: 2000 11 15
RASTER_ORDER: LEFT_RIGHT/TOP_BOTTOM
BAND_ORGANIZATION: SINGLE FILE
BAND_CONTENT: BLACK&WHITE
BAND_CONTENT: UNDEFINED
BAND_CONTENT: UNDEFINED
BITS_PER_PIXEL: 8
SAMPLES_AND_LINES: 5457 7648
HORIZONTAL_DATUM: NAD83
HORIZONTAL_COORDINATE_SYSTEM: UTM
COORDINATE_ZONE: 13
HORIZONTAL_UNITS: METERS
HORIZONTAL_RESOLUTION: 1.00000
SECONDARY_HORIZONTAL_DATUM: NAD27
XY_ORIGIN: 378291.00000 5317881.00000
SECONDARY_XY_ORIGIN: 378332.18200 5317659.36600
NATION: US
NATION: "SCIENCE
STATE: MT
NW_QUAD_CORNER_XY: 378783.98600 5317577.80900
NE_QUAD_CORNER_XY: 383446.01800 5317481.41300
SE_QUAD_CORNERY_XY: 383305.27700 5310535.09900
SW_QUAD_CORNER_XY: 378637.61300 5310631.51700
SECONDARY_NW_QUAD_XY: 378780.17100 5317358.96800
SECONDARY_NE_QUAD_XY: 383442.35000 5317262.56900
SECONDARY_SE_QUAD_XY: 383301.61000 5310316.27100
SECONDARY_SW_QUAD_XY: 378633.79800 5310412.69200
RMSE_XY: 1.50000
IMAGE_SOURCE: BLACK AND WHITE FILM
SOURCE_IMAGE_ID: NAPP 9110 174
SOURCE_IMAGE_DATE: 1996 08 11
SOURCE_DEM_DATE: 1993 00 00
AGENCY: WESTERN MAPPING CENTER (WMC)
PRODUCER: UNDEFINED
PRODUCTION_SYSTEM: GIS/MAGIC
COMPRESSION: UNDEFINED
STANDARD_VERSION: 1996 12
METADATA_DATE: 2000 11 16
DATA_FILE_SIZE: 41740593
BYTE_COUNT: 5457
