FILENAME: O4710604.NES.1112391.tif
QUADRANGLE_NAME: SKUNK COULEE
QUADRANT: NE
WEST_LONGITUDE: -106 33 45.00000
EAST_LONGITUDE: -106 30 0.00000
NORTH_LATITUDE: 48 0 0.00000
SOUTH_LATITUDE: 47 56 15.00000
PRODUCTION_DATE: 2000 11 15
RASTER_ORDER: LEFT_RIGHT/TOP_BOTTOM
BAND_ORGANIZATION: SINGLE FILE
BAND_CONTENT: BLACK&WHITE
BAND_CONTENT: UNDEFINED
BAND_CONTENT: UNDEFINED
BITS_PER_PIXEL: 8
SAMPLES_AND_LINES: 5451 7645
HORIZONTAL_DATUM: NAD83
HORIZONTAL_COORDINATE_SYSTEM: UTM
COORDINATE_ZONE: 13
HORIZONTAL_UNITS: METERS
HORIZONTAL_RESOLUTION: 1.00000
SECONDARY_HORIZONTAL_DATUM: NAD27
XY_ORIGIN: 382959.00000 5317785.00000
SECONDARY_XY_ORIGIN: 383000.06200 5317563.33200
NATION: US
NATION: "SCIENCE
STATE: MT
NW_QUAD_CORNER_XY: 383446.01800 5317481.41300
NE_QUAD_CORNER_XY: 388108.06500 5317388.79800
SE_QUAD_CORNERY_XY: 387972.95600 5310442.46400
SW_QUAD_CORNER_XY: 383305.27700 5310535.09900
SECONDARY_NW_QUAD_XY: 383442.35000 5317262.56900
SECONDARY_NE_QUAD_XY: 388104.54400 5317169.95200
SECONDARY_SE_QUAD_XY: 387969.43500 5310223.63300
SECONDARY_SW_QUAD_XY: 383301.61000 5310316.27100
RMSE_XY: 1.40000
IMAGE_SOURCE: BLACK AND WHITE FILM
SOURCE_IMAGE_ID: NAPP 9110 105
SOURCE_IMAGE_DATE: 1996 08 11
SOURCE_DEM_DATE: 1993 00 00
AGENCY: WESTERN MAPPING CENTER (WMC)
PRODUCER: UNDEFINED
PRODUCTION_SYSTEM: GIS/MAGIC
COMPRESSION: UNDEFINED
STANDARD_VERSION: 1996 12
METADATA_DATE: 2000 11 16
DATA_FILE_SIZE: 41678346
BYTE_COUNT: 5451
