FILENAME: O4710607.SWS.1112570.tif
QUADRANGLE_NAME: MCRAE SPRINGS
QUADRANT: SW
WEST_LONGITUDE: -106 15 0.00000
EAST_LONGITUDE: -106 11 15.00000
NORTH_LATITUDE: 47 56 15.00000
SOUTH_LATITUDE: 47 52 30.00000
PRODUCTION_DATE: 2000 11 16
RASTER_ORDER: LEFT_RIGHT/TOP_BOTTOM
BAND_ORGANIZATION: SINGLE FILE
BAND_CONTENT: BLACK&WHITE
BAND_CONTENT: UNDEFINED
BAND_CONTENT: UNDEFINED
BITS_PER_PIXEL: 8
SAMPLES_AND_LINES: 5427 7626
HORIZONTAL_DATUM: NAD83
HORIZONTAL_COORDINATE_SYSTEM: UTM
COORDINATE_ZONE: 13
HORIZONTAL_UNITS: METERS
HORIZONTAL_RESOLUTION: 1.00000
SECONDARY_HORIZONTAL_DATUM: NAD27
XY_ORIGIN: 406186.00000 5310413.00000
SECONDARY_XY_ORIGIN: 406226.50900 5310191.82200
NATION: US
NATION: "SCIENCE
STATE: MT
NW_QUAD_CORNER_XY: 406643.80000 5310109.74800
NE_QUAD_CORNER_XY: 411311.54100 5310036.02300
SE_QUAD_CORNERY_XY: 411204.69400 5303089.67100
SW_QUAD_CORNER_XY: 406531.32800 5303163.41200
SECONDARY_NW_QUAD_XY: 406640.86600 5309890.90600
SECONDARY_NE_QUAD_XY: 411308.75400 5309817.17900
SECONDARY_SE_QUAD_XY: 411201.90700 5302870.84300
SECONDARY_SW_QUAD_XY: 406528.39400 5302944.58600
RMSE_XY: 1.30000
IMAGE_SOURCE: BLACK AND WHITE FILM
SOURCE_IMAGE_ID: NAPP 9122 120
SOURCE_IMAGE_DATE: 1996 09 11
SOURCE_IMAGE_ID: NAPP 9122 050
SOURCE_IMAGE_DATE: 1996 09 11
SOURCE_DEM_DATE: 1993 00 00
AGENCY: WESTERN MAPPING CENTER (WMC)
PRODUCER: UNDEFINED
PRODUCTION_SYSTEM: GIS/MAGIC
COMPRESSION: UNDEFINED
STANDARD_VERSION: 1996 12
METADATA_DATE: 2000 11 16
DATA_FILE_SIZE: 41391729
BYTE_COUNT: 5427
