FILENAME: O4710610.SWS.1112297.tif
QUADRANGLE_NAME: MIDDLE EIGHTH COULEE
QUADRANT: SW
WEST_LONGITUDE: -106 52 30.00000
EAST_LONGITUDE: -106 48 45.00000
NORTH_LATITUDE: 47 48 45.00000
SOUTH_LATITUDE: 47 45 0.00000
PRODUCTION_DATE: 2000 11 14
RASTER_ORDER: LEFT_RIGHT/TOP_BOTTOM
BAND_ORGANIZATION: SINGLE FILE
BAND_CONTENT: BLACK&WHITE
BAND_CONTENT: UNDEFINED
BAND_CONTENT: UNDEFINED
BITS_PER_PIXEL: 8
SAMPLES_AND_LINES: 5497 7663
HORIZONTAL_DATUM: NAD83
HORIZONTAL_COORDINATE_SYSTEM: UTM
COORDINATE_ZONE: 13
HORIZONTAL_UNITS: METERS
HORIZONTAL_RESOLUTION: 1.00000
SECONDARY_HORIZONTAL_DATUM: NAD27
XY_ORIGIN: 359113.00000 5297466.00000
SECONDARY_XY_ORIGIN: 359155.18000 5297244.95800
NATION: US
NATION: "SCIENCE
STATE: MT
NW_QUAD_CORNER_XY: 359629.80100 5297162.82800
NE_QUAD_CORNER_XY: 364308.65400 5297051.22900
SE_QUAD_CORNERY_XY: 364145.87000 5290105.21300
SW_QUAD_CORNER_XY: 359461.40000 5290216.83500
SECONDARY_NW_QUAD_XY: 359625.40000 5296944.04900
SECONDARY_NE_QUAD_XY: 364304.40000 5296832.44700
SECONDARY_SE_QUAD_XY: 364141.61600 5289886.44800
SECONDARY_SW_QUAD_XY: 359457.00000 5289998.07400
RMSE_XY: 2.20000
IMAGE_SOURCE: BLACK AND WHITE FILM
SOURCE_IMAGE_ID: NAPP 10723 052
SOURCE_IMAGE_DATE: 1997 08 28
SOURCE_DEM_DATE: 1993 00 00
AGENCY: WESTERN MAPPING CENTER (WMC)
PRODUCER: UNDEFINED
PRODUCTION_SYSTEM: GIS/MAGIC
COMPRESSION: UNDEFINED
STANDARD_VERSION: 1996 12
METADATA_DATE: 2000 11 17
DATA_FILE_SIZE: 42129008
BYTE_COUNT: 5497
