FILENAME: O4710610.SES.1112296.tif
QUADRANGLE_NAME: MIDDLE EIGHTH COULEE
QUADRANT: SE
WEST_LONGITUDE: -106 48 45.00000
EAST_LONGITUDE: -106 45 0.00000
NORTH_LATITUDE: 47 48 45.00000
SOUTH_LATITUDE: 47 45 0.00000
PRODUCTION_DATE: 2000 11 14
RASTER_ORDER: LEFT_RIGHT/TOP_BOTTOM
BAND_ORGANIZATION: SINGLE FILE
BAND_CONTENT: BLACK&WHITE
BAND_CONTENT: UNDEFINED
BAND_CONTENT: UNDEFINED
BITS_PER_PIXEL: 8
SAMPLES_AND_LINES: 5491 7659
HORIZONTAL_DATUM: NAD83
HORIZONTAL_COORDINATE_SYSTEM: UTM
COORDINATE_ZONE: 13
HORIZONTAL_UNITS: METERS
HORIZONTAL_RESOLUTION: 1.00000
SECONDARY_HORIZONTAL_DATUM: NAD27
XY_ORIGIN: 363798.00000 5297354.00000
SECONDARY_XY_ORIGIN: 363840.04600 5297132.95500
NATION: US
NATION: "SCIENCE
STATE: MT
NW_QUAD_CORNER_XY: 364308.65400 5297051.22900
NE_QUAD_CORNER_XY: 368987.52200 5296943.41600
SE_QUAD_CORNERY_XY: 368830.35400 5289997.37700
SW_QUAD_CORNER_XY: 364145.87000 5290105.21300
SECONDARY_NW_QUAD_XY: 364304.40000 5296832.44700
SECONDARY_NE_QUAD_XY: 368983.41500 5296724.63000
SECONDARY_SE_QUAD_XY: 368826.24800 5289778.60900
SECONDARY_SW_QUAD_XY: 364141.61600 5289886.44800
RMSE_XY: 1.70000
IMAGE_SOURCE: BLACK AND WHITE FILM
SOURCE_IMAGE_ID: NAPP 9109 053
SOURCE_IMAGE_DATE: 1996 08 11
SOURCE_IMAGE_ID: NAPP 9109 054
SOURCE_IMAGE_DATE: 1996 08 11
SOURCE_DEM_DATE: 1993 00 00
AGENCY: WESTERN MAPPING CENTER (WMC)
PRODUCER: UNDEFINED
PRODUCTION_SYSTEM: GIS/MAGIC
COMPRESSION: UNDEFINED
STANDARD_VERSION: 1996 12
METADATA_DATE: 2000 11 17
DATA_FILE_SIZE: 42061060
BYTE_COUNT: 5491
