FILENAME: O4710610.NWS.1112295.tif
QUADRANGLE_NAME: MIDDLE EIGHTH COULEE
QUADRANT: NW
WEST_LONGITUDE: -106 52 30.00000
EAST_LONGITUDE: -106 48 45.00000
NORTH_LATITUDE: 47 52 30.00000
SOUTH_LATITUDE: 47 48 45.00000
PRODUCTION_DATE: 2000 11 14
RASTER_ORDER: LEFT_RIGHT/TOP_BOTTOM
BAND_ORGANIZATION: SINGLE FILE
BAND_CONTENT: BLACK&WHITE
BAND_CONTENT: UNDEFINED
BAND_CONTENT: UNDEFINED
BITS_PER_PIXEL: 8
SAMPLES_AND_LINES: 5491 7663
HORIZONTAL_DATUM: NAD83
HORIZONTAL_COORDINATE_SYSTEM: UTM
COORDINATE_ZONE: 13
HORIZONTAL_UNITS: METERS
HORIZONTAL_RESOLUTION: 1.00000
SECONDARY_HORIZONTAL_DATUM: NAD27
XY_ORIGIN: 359282.00000 5304412.00000
SECONDARY_XY_ORIGIN: 359324.03000 5304190.85000
NATION: US
NATION: "SCIENCE
STATE: MT
NW_QUAD_CORNER_XY: 359798.37000 5304108.88900
NE_QUAD_CORNER_XY: 364471.60000 5303997.31400
SE_QUAD_CORNERY_XY: 364308.65400 5297051.22900
SW_QUAD_CORNER_XY: 359629.80100 5297162.82800
SECONDARY_NW_QUAD_XY: 359793.96900 5303890.09300
SECONDARY_NE_QUAD_XY: 364467.34600 5303778.51500
SECONDARY_SE_QUAD_XY: 364304.40000 5296832.44700
SECONDARY_SW_QUAD_XY: 359625.40000 5296944.04900
RMSE_XY: 1.50000
IMAGE_SOURCE: BLACK AND WHITE FILM
SOURCE_IMAGE_ID: NAPP 10723 054
SOURCE_IMAGE_DATE: 1997 08 28
SOURCE_IMAGE_ID: NAPP 10723 055
SOURCE_IMAGE_DATE: 1997 08 28
SOURCE_DEM_DATE: 1993 00 00
AGENCY: WESTERN MAPPING CENTER (WMC)
PRODUCER: UNDEFINED
PRODUCTION_SYSTEM: GIS/MAGIC
COMPRESSION: UNDEFINED
STANDARD_VERSION: 1996 12
METADATA_DATE: 2000 11 17
DATA_FILE_SIZE: 42083024
BYTE_COUNT: 5491
