FILENAME: O4710611.SES.1112352.tif
QUADRANGLE_NAME: SEVENTH POINT BUTTES
QUADRANT: SE
WEST_LONGITUDE: -106 41 15.00000
EAST_LONGITUDE: -106 37 30.00000
NORTH_LATITUDE: 47 48 45.00000
SOUTH_LATITUDE: 47 45 0.00000
PRODUCTION_DATE: 2000 11 14
RASTER_ORDER: LEFT_RIGHT/TOP_BOTTOM
BAND_ORGANIZATION: SINGLE FILE
BAND_CONTENT: BLACK&WHITE
BAND_CONTENT: UNDEFINED
BAND_CONTENT: UNDEFINED
BITS_PER_PIXEL: 8
SAMPLES_AND_LINES: 5479 7651
HORIZONTAL_DATUM: NAD83
HORIZONTAL_COORDINATE_SYSTEM: UTM
COORDINATE_ZONE: 13
HORIZONTAL_UNITS: METERS
HORIZONTAL_RESOLUTION: 1.00000
SECONDARY_HORIZONTAL_DATUM: NAD27
XY_ORIGIN: 373168.00000 5297142.00000
SECONDARY_XY_ORIGIN: 373209.74200 5296920.97900
NATION: US
NATION: "SCIENCE
STATE: MT
NW_QUAD_CORNER_XY: 373666.40600 5296839.38700
NE_QUAD_CORNER_XY: 378345.30400 5296739.14300
SE_QUAD_CORNERY_XY: 378199.36800 5289793.06200
SW_QUAD_CORNER_XY: 373514.85400 5289893.32600
SECONDARY_NW_QUAD_XY: 373662.44500 5296620.59800
SECONDARY_NE_QUAD_XY: 378341.49000 5296520.35100
SECONDARY_SE_QUAD_XY: 378195.55400 5289574.28700
SECONDARY_SW_QUAD_XY: 373510.89400 5289674.55500
RMSE_XY: 3.20000
IMAGE_SOURCE: BLACK AND WHITE FILM
SOURCE_IMAGE_ID: NAPP 9111 117
SOURCE_IMAGE_DATE: 1996 08 11
SOURCE_DEM_DATE: 1993 00 00
AGENCY: WESTERN MAPPING CENTER (WMC)
PRODUCER: UNDEFINED
PRODUCTION_SYSTEM: GIS/MAGIC
COMPRESSION: UNDEFINED
STANDARD_VERSION: 1996 12
METADATA_DATE: 2000 11 16
DATA_FILE_SIZE: 41925308
BYTE_COUNT: 5479
