FILENAME: O4710614.NES.1112451.tif
QUADRANGLE_NAME: SPRING CREEK BAY
QUADRANT: NE
WEST_LONGITUDE: -106 18 45.00000
EAST_LONGITUDE: -106 15 0.00000
NORTH_LATITUDE: 47 52 30.00000
SOUTH_LATITUDE: 47 48 45.00000
PRODUCTION_DATE: 2000 11 16
RASTER_ORDER: LEFT_RIGHT/TOP_BOTTOM
BAND_ORGANIZATION: SINGLE FILE
BAND_CONTENT: BLACK&WHITE
BAND_CONTENT: UNDEFINED
BAND_CONTENT: UNDEFINED
BITS_PER_PIXEL: 8
SAMPLES_AND_LINES: 5438 7629
HORIZONTAL_DATUM: NAD83
HORIZONTAL_COORDINATE_SYSTEM: UTM
COORDINATE_ZONE: 13
HORIZONTAL_UNITS: METERS
HORIZONTAL_RESOLUTION: 1.00000
SECONDARY_HORIZONTAL_DATUM: NAD27
XY_ORIGIN: 401395.00000 5303544.00000
SECONDARY_XY_ORIGIN: 401435.69500 5303323.00700
NATION: US
NATION: "SCIENCE
STATE: MT
NW_QUAD_CORNER_XY: 401857.97400 5303240.93500
NE_QUAD_CORNER_XY: 406531.32800 5303163.41200
SE_QUAD_CORNERY_XY: 406418.96800 5296217.14800
SW_QUAD_CORNER_XY: 401739.99400 5296294.68800
SECONDARY_NW_QUAD_XY: 401854.89300 5303022.11200
SECONDARY_NE_QUAD_XY: 406528.39400 5302944.58600
SECONDARY_SE_QUAD_XY: 406416.03500 5295998.33900
SECONDARY_SW_QUAD_XY: 401736.91400 5296075.88100
RMSE_XY: 2.50000
IMAGE_SOURCE: BLACK AND WHITE FILM
SOURCE_IMAGE_ID: NAPP 9122 049
SOURCE_IMAGE_DATE: 1996 09 11
SOURCE_DEM_DATE: 1971 00 00
AGENCY: WESTERN MAPPING CENTER (WMC)
PRODUCER: UNDEFINED
PRODUCTION_SYSTEM: GIS/MAGIC
COMPRESSION: UNDEFINED
STANDARD_VERSION: 1996 12
METADATA_DATE: 2000 11 16
DATA_FILE_SIZE: 41491940
BYTE_COUNT: 5438
