FILENAME: O4710615.NWS.1112488.tif
QUADRANGLE_NAME: SAND ARROYO
QUADRANT: NW
WEST_LONGITUDE: -106 15 0.00000
EAST_LONGITUDE: -106 11 15.00000
NORTH_LATITUDE: 47 52 30.00000
SOUTH_LATITUDE: 47 48 45.00000
PRODUCTION_DATE: 2000 11 16
RASTER_ORDER: LEFT_RIGHT/TOP_BOTTOM
BAND_ORGANIZATION: SINGLE FILE
BAND_CONTENT: BLACK&WHITE
BAND_CONTENT: UNDEFINED
BAND_CONTENT: UNDEFINED
BITS_PER_PIXEL: 8
SAMPLES_AND_LINES: 5432 7625
HORIZONTAL_DATUM: NAD83
HORIZONTAL_COORDINATE_SYSTEM: UTM
COORDINATE_ZONE: 13
HORIZONTAL_UNITS: METERS
HORIZONTAL_RESOLUTION: 1.00000
SECONDARY_HORIZONTAL_DATUM: NAD27
XY_ORIGIN: 406074.00000 5303466.00000
SECONDARY_XY_ORIGIN: 406114.55100 5303245.07900
NATION: US
NATION: "SCIENCE
STATE: MT
NW_QUAD_CORNER_XY: 406531.32800 5303163.41200
NE_QUAD_CORNER_XY: 411204.69400 5303089.67100
SE_QUAD_CORNERY_XY: 411097.95300 5296143.39200
SW_QUAD_CORNER_XY: 406418.96800 5296217.14800
SECONDARY_NW_QUAD_XY: 406528.39400 5302944.58600
SECONDARY_NE_QUAD_XY: 411201.90700 5302870.84300
SECONDARY_SE_QUAD_XY: 411095.16600 5295924.58100
SECONDARY_SW_QUAD_XY: 406416.03500 5295998.33900
RMSE_XY: 2.60000
IMAGE_SOURCE: BLACK AND WHITE FILM
SOURCE_IMAGE_ID: NAPP 9106 066
SOURCE_IMAGE_DATE: 1996 08 07
SOURCE_IMAGE_ID: NAPP 9106 067
SOURCE_IMAGE_DATE: 1996 08 07
SOURCE_IMAGE_ID: NAPP 9122 121
SOURCE_IMAGE_DATE: 1996 09 11
SOURCE_IMAGE_ID: NAPP 9106 059
SOURCE_IMAGE_DATE: 1996 08 07
SOURCE_DEM_DATE: 1993 00 00
AGENCY: WESTERN MAPPING CENTER (WMC)
PRODUCER: UNDEFINED
PRODUCTION_SYSTEM: GIS/MAGIC
COMPRESSION: UNDEFINED
STANDARD_VERSION: 1996 12
METADATA_DATE: 2000 11 16
DATA_FILE_SIZE: 41424432
BYTE_COUNT: 5432
