FILENAME: O4710616.SES.1112589.tif
QUADRANGLE_NAME: WILLIS BUTTES
QUADRANT: SE
WEST_LONGITUDE: -106 3 45.00000
EAST_LONGITUDE: -106 0 0.00000
NORTH_LATITUDE: 47 48 45.00000
SOUTH_LATITUDE: 47 45 0.00000
PRODUCTION_DATE: 2000 11 16
RASTER_ORDER: LEFT_RIGHT/TOP_BOTTOM
BAND_ORGANIZATION: SINGLE FILE
BAND_CONTENT: BLACK&WHITE
BAND_CONTENT: UNDEFINED
BAND_CONTENT: UNDEFINED
BITS_PER_PIXEL: 8
SAMPLES_AND_LINES: 5420 7613
HORIZONTAL_DATUM: NAD83
HORIZONTAL_COORDINATE_SYSTEM: UTM
COORDINATE_ZONE: 13
HORIZONTAL_UNITS: METERS
HORIZONTAL_RESOLUTION: 1.00000
SECONDARY_HORIZONTAL_DATUM: NAD27
XY_ORIGIN: 420016.00000 5296309.00000
SECONDARY_XY_ORIGIN: 420056.42300 5296088.40500
NATION: US
NATION: "SCIENCE
STATE: MT
NW_QUAD_CORNER_XY: 420455.95400 5296007.22900
NE_QUAD_CORNER_XY: 425134.96800 5295944.82200
SE_QUAD_CORNERY_XY: 425045.17400 5288998.57400
SW_QUAD_CORNER_XY: 420360.54600 5289060.99300
SECONDARY_NW_QUAD_XY: 420453.46000 5295788.41400
SECONDARY_NE_QUAD_XY: 425132.62100 5295726.00500
SECONDARY_SE_QUAD_XY: 425042.82700 5288779.77400
SECONDARY_SW_QUAD_XY: 420358.05300 5288842.19600
RMSE_XY: 2.80000
IMAGE_SOURCE: BLACK AND WHITE FILM
SOURCE_IMAGE_ID: NAPP 9089 092
SOURCE_IMAGE_DATE: 1996 07 07
SOURCE_IMAGE_ID: NAPP 9089 093
SOURCE_IMAGE_DATE: 1996 07 07
SOURCE_DEM_DATE: 1992 00 00
AGENCY: WESTERN MAPPING CENTER (WMC)
PRODUCER: UNDEFINED
PRODUCTION_SYSTEM: GIS/MAGIC
COMPRESSION: UNDEFINED
STANDARD_VERSION: 1996 12
METADATA_DATE: 2000 11 16
DATA_FILE_SIZE: 41267880
BYTE_COUNT: 5420
