FILENAME: O4710616.NWS.1112588.tif
QUADRANGLE_NAME: WILLIS BUTTES
QUADRANT: NW
WEST_LONGITUDE: -106 7 30.00000
EAST_LONGITUDE: -106 3 45.00000
NORTH_LATITUDE: 47 52 30.00000
SOUTH_LATITUDE: 47 48 45.00000
PRODUCTION_DATE: 2000 11 16
RASTER_ORDER: LEFT_RIGHT/TOP_BOTTOM
BAND_ORGANIZATION: SINGLE FILE
BAND_CONTENT: BLACK&WHITE
BAND_CONTENT: UNDEFINED
BAND_CONTENT: UNDEFINED
BITS_PER_PIXEL: 8
SAMPLES_AND_LINES: 5421 7617
HORIZONTAL_DATUM: NAD83
HORIZONTAL_COORDINATE_SYSTEM: UTM
COORDINATE_ZONE: 13
HORIZONTAL_UNITS: METERS
HORIZONTAL_RESOLUTION: 1.00000
SECONDARY_HORIZONTAL_DATUM: NAD27
XY_ORIGIN: 415432.00000 5303322.00000
SECONDARY_XY_ORIGIN: 415472.45300 5303101.13400
NATION: US
NATION: "SCIENCE
STATE: MT
NW_QUAD_CORNER_XY: 415878.07000 5303019.71300
NE_QUAD_CORNER_XY: 420551.45600 5302953.53700
SE_QUAD_CORNERY_XY: 420455.95400 5296007.22900
SW_QUAD_CORNER_XY: 415776.94900 5296073.41900
SECONDARY_NW_QUAD_XY: 415875.43000 5302800.88300
SECONDARY_NE_QUAD_XY: 420548.96200 5302734.70500
SECONDARY_SE_QUAD_XY: 420453.46000 5295788.41400
SECONDARY_SW_QUAD_XY: 415774.30800 5295854.60600
RMSE_XY: 2.40000
IMAGE_SOURCE: BLACK AND WHITE FILM
SOURCE_IMAGE_ID: NAPP 9090 013
SOURCE_IMAGE_DATE: 1996 07 07
SOURCE_IMAGE_ID: NAPP 9106 058
SOURCE_IMAGE_DATE: 1996 08 07
SOURCE_IMAGE_ID: NAPP 9090 014
SOURCE_IMAGE_DATE: 1996 07 07
SOURCE_IMAGE_ID: NAPP 9090 012
SOURCE_IMAGE_DATE: 1996 07 07
SOURCE_IMAGE_ID: NAPP 9089 094
SOURCE_IMAGE_DATE: 1996 07 07
SOURCE_DEM_DATE: 1992 00 00
AGENCY: WESTERN MAPPING CENTER (WMC)
PRODUCER: UNDEFINED
PRODUCTION_SYSTEM: GIS/MAGIC
COMPRESSION: UNDEFINED
STANDARD_VERSION: 1996 12
METADATA_DATE: 2000 11 16
DATA_FILE_SIZE: 41297178
BYTE_COUNT: 5421
