FILENAME: O4710618.SWS.1112301.tif
QUADRANGLE_NAME: LITTLE BUFFALO HILL
QUADRANT: SW
WEST_LONGITUDE: -106 52 30.00000
EAST_LONGITUDE: -106 48 45.00000
NORTH_LATITUDE: 47 41 15.00000
SOUTH_LATITUDE: 47 37 30.00000
PRODUCTION_DATE: 2000 11 13
RASTER_ORDER: LEFT_RIGHT/TOP_BOTTOM
BAND_ORGANIZATION: SINGLE FILE
BAND_CONTENT: BLACK&WHITE
BAND_CONTENT: UNDEFINED
BAND_CONTENT: UNDEFINED
BITS_PER_PIXEL: 8
SAMPLES_AND_LINES: 5508 7662
HORIZONTAL_DATUM: NAD83
HORIZONTAL_COORDINATE_SYSTEM: UTM
COORDINATE_ZONE: 13
HORIZONTAL_UNITS: METERS
HORIZONTAL_RESOLUTION: 1.00000
SECONDARY_HORIZONTAL_DATUM: NAD27
XY_ORIGIN: 358777.00000 5283573.00000
SECONDARY_XY_ORIGIN: 358819.37100 5283352.25500
NATION: US
NATION: "SCIENCE
STATE: MT
NW_QUAD_CORNER_XY: 359293.16800 5283270.91000
NE_QUAD_CORNER_XY: 363983.24900 5283159.26500
SE_QUAD_CORNERY_XY: 363820.79100 5276213.38600
SW_QUAD_CORNER_XY: 359125.10500 5276325.05300
SECONDARY_NW_QUAD_XY: 359288.76900 5283052.16800
SECONDARY_NE_QUAD_XY: 363978.99600 5282940.51900
SECONDARY_SE_QUAD_XY: 363816.53800 5275994.65900
SECONDARY_SW_QUAD_XY: 359120.70600 5276106.33000
RMSE_XY: 1.50000
IMAGE_SOURCE: BLACK AND WHITE FILM
SOURCE_IMAGE_ID: NAPP 10723 048
SOURCE_IMAGE_DATE: 1997 08 28
SOURCE_IMAGE_ID: NAPP 10723 047
SOURCE_IMAGE_DATE: 1997 08 28
SOURCE_IMAGE_ID: NAPP 10723 049
SOURCE_IMAGE_DATE: 1997 08 28
SOURCE_DEM_DATE: 1982 00 00
AGENCY: WESTERN MAPPING CENTER (WMC)
PRODUCER: UNDEFINED
PRODUCTION_SYSTEM: GIS/MAGIC
COMPRESSION: UNDEFINED
STANDARD_VERSION: 1996 12
METADATA_DATE: 2000 11 17
DATA_FILE_SIZE: 42207804
BYTE_COUNT: 5508
