FILENAME: O4710618.NES.1112298.tif
QUADRANGLE_NAME: LITTLE BUFFALO HILL
QUADRANT: NE
WEST_LONGITUDE: -106 48 45.00000
EAST_LONGITUDE: -106 45 0.00000
NORTH_LATITUDE: 47 45 0.00000
SOUTH_LATITUDE: 47 41 15.00000
PRODUCTION_DATE: 2000 11 14
RASTER_ORDER: LEFT_RIGHT/TOP_BOTTOM
BAND_ORGANIZATION: SINGLE FILE
BAND_CONTENT: BLACK&WHITE
BAND_CONTENT: UNDEFINED
BAND_CONTENT: UNDEFINED
BITS_PER_PIXEL: 8
SAMPLES_AND_LINES: 5497 7659
HORIZONTAL_DATUM: NAD83
HORIZONTAL_COORDINATE_SYSTEM: UTM
COORDINATE_ZONE: 13
HORIZONTAL_UNITS: METERS
HORIZONTAL_RESOLUTION: 1.00000
SECONDARY_HORIZONTAL_DATUM: NAD27
XY_ORIGIN: 363635.00000 5290408.00000
SECONDARY_XY_ORIGIN: 363677.21200 5290187.10000
NATION: US
NATION: "SCIENCE
STATE: MT
NW_QUAD_CORNER_XY: 364145.87000 5290105.21300
NE_QUAD_CORNER_XY: 368830.35400 5289997.37700
SE_QUAD_CORNERY_XY: 368673.34400 5283051.40700
SW_QUAD_CORNER_XY: 363983.24900 5283159.26500
SECONDARY_NW_QUAD_XY: 364141.61600 5289886.44800
SECONDARY_NE_QUAD_XY: 368826.24800 5289778.60900
SECONDARY_SE_QUAD_XY: 368669.23800 5282832.65700
SECONDARY_SW_QUAD_XY: 363978.99600 5282940.51900
RMSE_XY: 1.80000
IMAGE_SOURCE: BLACK AND WHITE FILM
SOURCE_IMAGE_ID: NAPP 9109 051
SOURCE_IMAGE_DATE: 1996 08 11
SOURCE_IMAGE_ID: NAPP 10723 049
SOURCE_IMAGE_DATE: 1997 08 28
SOURCE_IMAGE_ID: NAPP 9109 050
SOURCE_IMAGE_DATE: 1996 08 11
SOURCE_DEM_DATE: 1982 00 00
AGENCY: WESTERN MAPPING CENTER (WMC)
PRODUCER: UNDEFINED
PRODUCTION_SYSTEM: GIS/MAGIC
COMPRESSION: UNDEFINED
STANDARD_VERSION: 1996 12
METADATA_DATE: 2000 11 17
DATA_FILE_SIZE: 42107020
BYTE_COUNT: 5497
