FILENAME: O4710621.SWS.1112414.tif
QUADRANGLE_NAME: ASH CREEK WEST
QUADRANT: SW
WEST_LONGITUDE: -106 30 0.00000
EAST_LONGITUDE: -106 26 15.00000
NORTH_LATITUDE: 47 41 15.00000
SOUTH_LATITUDE: 47 37 30.00000
PRODUCTION_DATE: 2000 11 15
RASTER_ORDER: LEFT_RIGHT/TOP_BOTTOM
BAND_ORGANIZATION: SINGLE FILE
BAND_CONTENT: BLACK&WHITE
BAND_CONTENT: UNDEFINED
BAND_CONTENT: UNDEFINED
BITS_PER_PIXEL: 8
SAMPLES_AND_LINES: 5473 7640
HORIZONTAL_DATUM: NAD83
HORIZONTAL_COORDINATE_SYSTEM: UTM
COORDINATE_ZONE: 13
HORIZONTAL_UNITS: METERS
HORIZONTAL_RESOLUTION: 1.00000
SECONDARY_HORIZONTAL_DATUM: NAD27
XY_ORIGIN: 386953.00000 5282960.00000
SECONDARY_XY_ORIGIN: 386994.33000 5282739.55800
NATION: US
NATION: "SCIENCE
STATE: MT
NW_QUAD_CORNER_XY: 387433.86500 5282657.83700
NE_QUAD_CORNER_XY: 392124.02800 5282568.90900
SE_QUAD_CORNERY_XY: 391995.19600 5275622.91100
SW_QUAD_CORNER_XY: 387299.42900 5275711.85700
SECONDARY_NW_QUAD_XY: 387430.34600 5282439.07500
SECONDARY_NE_QUAD_XY: 392120.65500 5282350.14400
SECONDARY_SE_QUAD_XY: 391991.82300 5275404.16600
SECONDARY_SW_QUAD_XY: 387295.91000 5275493.11500
RMSE_XY: 0.70000
IMAGE_SOURCE: BLACK AND WHITE FILM
SOURCE_IMAGE_ID: NAPP 9109 138
SOURCE_IMAGE_DATE: 1996 08 11
SOURCE_DEM_DATE: 1971 00 00
AGENCY: WESTERN MAPPING CENTER (WMC)
PRODUCER: UNDEFINED
PRODUCTION_SYSTEM: GIS/MAGIC
COMPRESSION: UNDEFINED
STANDARD_VERSION: 1996 12
METADATA_DATE: 2000 11 16
DATA_FILE_SIZE: 41819193
BYTE_COUNT: 5473
