FILENAME: O4710624.SES.1112593.tif
QUADRANGLE_NAME: CROW SPRINGS
QUADRANT: SE
WEST_LONGITUDE: -106 3 45.00000
EAST_LONGITUDE: -106 0 0.00000
NORTH_LATITUDE: 47 41 15.00000
SOUTH_LATITUDE: 47 37 30.00000
PRODUCTION_DATE: 2000 11 16
RASTER_ORDER: LEFT_RIGHT/TOP_BOTTOM
BAND_ORGANIZATION: SINGLE FILE
BAND_CONTENT: BLACK&WHITE
BAND_CONTENT: UNDEFINED
BAND_CONTENT: UNDEFINED
BITS_PER_PIXEL: 8
SAMPLES_AND_LINES: 5432 7613
HORIZONTAL_DATUM: NAD83
HORIZONTAL_COORDINATE_SYSTEM: UTM
COORDINATE_ZONE: 13
HORIZONTAL_UNITS: METERS
HORIZONTAL_RESOLUTION: 1.00000
SECONDARY_HORIZONTAL_DATUM: NAD27
XY_ORIGIN: 419825.00000 5282417.00000
SECONDARY_XY_ORIGIN: 419865.55600 5282196.85200
NATION: US
NATION: "SCIENCE
STATE: MT
NW_QUAD_CORNER_XY: 420265.23500 5282114.83200
NE_QUAD_CORNER_XY: 424955.47000 5282052.39900
SE_QUAD_CORNERY_XY: 424865.85600 5275106.29800
SW_QUAD_CORNER_XY: 420170.01900 5275168.74300
SECONDARY_NW_QUAD_XY: 420262.74200 5281896.05300
SECONDARY_NE_QUAD_XY: 424953.12300 5281833.61800
SECONDARY_SE_QUAD_XY: 424863.51000 5274887.53700
SECONDARY_SW_QUAD_XY: 420167.52600 5274949.98400
RMSE_XY: 1.40000
IMAGE_SOURCE: BLACK AND WHITE FILM
SOURCE_IMAGE_ID: NAPP 9089 088
SOURCE_IMAGE_DATE: 1996 07 07
SOURCE_IMAGE_ID: NAPP 9089 087
SOURCE_IMAGE_DATE: 1996 07 07
SOURCE_DEM_DATE: 1993 00 00
AGENCY: WESTERN MAPPING CENTER (WMC)
PRODUCER: UNDEFINED
PRODUCTION_SYSTEM: GIS/MAGIC
COMPRESSION: UNDEFINED
STANDARD_VERSION: 1996 12
METADATA_DATE: 2000 11 16
DATA_FILE_SIZE: 41359248
BYTE_COUNT: 5432
