FILENAME: O4710624.NES.1112591.tif
QUADRANGLE_NAME: CROW SPRINGS
QUADRANT: NE
WEST_LONGITUDE: -106 3 45.00000
EAST_LONGITUDE: -106 0 0.00000
NORTH_LATITUDE: 47 45 0.00000
SOUTH_LATITUDE: 47 41 15.00000
PRODUCTION_DATE: 2000 11 16
RASTER_ORDER: LEFT_RIGHT/TOP_BOTTOM
BAND_ORGANIZATION: SINGLE FILE
BAND_CONTENT: BLACK&WHITE
BAND_CONTENT: UNDEFINED
BAND_CONTENT: UNDEFINED
BITS_PER_PIXEL: 8
SAMPLES_AND_LINES: 5426 7613
HORIZONTAL_DATUM: NAD83
HORIZONTAL_COORDINATE_SYSTEM: UTM
COORDINATE_ZONE: 13
HORIZONTAL_UNITS: METERS
HORIZONTAL_RESOLUTION: 1.00000
SECONDARY_HORIZONTAL_DATUM: NAD27
XY_ORIGIN: 419921.00000 5289363.00000
SECONDARY_XY_ORIGIN: 419961.43700 5289142.65600
NATION: US
NATION: "SCIENCE
STATE: MT
NW_QUAD_CORNER_XY: 420360.54600 5289060.99300
NE_QUAD_CORNER_XY: 425045.17400 5288998.57400
SE_QUAD_CORNERY_XY: 424955.47000 5282052.39900
SW_QUAD_CORNER_XY: 420265.23500 5282114.83200
SECONDARY_NW_QUAD_XY: 420358.05300 5288842.19600
SECONDARY_NE_QUAD_XY: 425042.82700 5288779.77400
SECONDARY_SE_QUAD_XY: 424953.12300 5281833.61800
SECONDARY_SW_QUAD_XY: 420262.74200 5281896.05300
RMSE_XY: 1.80000
IMAGE_SOURCE: BLACK AND WHITE FILM
SOURCE_IMAGE_ID: NAPP 9089 090
SOURCE_IMAGE_DATE: 1996 07 07
SOURCE_IMAGE_ID: NAPP 9089 089
SOURCE_IMAGE_DATE: 1996 07 07
SOURCE_DEM_DATE: 1993 00 00
AGENCY: WESTERN MAPPING CENTER (WMC)
PRODUCER: UNDEFINED
PRODUCTION_SYSTEM: GIS/MAGIC
COMPRESSION: UNDEFINED
STANDARD_VERSION: 1996 12
METADATA_DATE: 2000 11 16
DATA_FILE_SIZE: 41313564
BYTE_COUNT: 5426
