FILENAME: O4710626.SWS.1112281.tif
QUADRANGLE_NAME: BUFFALO HILL
QUADRANT: SW
WEST_LONGITUDE: -106 52 30.00000
EAST_LONGITUDE: -106 48 45.00000
NORTH_LATITUDE: 47 33 45.00000
SOUTH_LATITUDE: 47 30 0.00000
PRODUCTION_DATE: 2000 11 13
RASTER_ORDER: LEFT_RIGHT/TOP_BOTTOM
BAND_ORGANIZATION: SINGLE FILE
BAND_CONTENT: BLACK&WHITE
BAND_CONTENT: UNDEFINED
BAND_CONTENT: UNDEFINED
BITS_PER_PIXEL: 8
SAMPLES_AND_LINES: 5519 7662
HORIZONTAL_DATUM: NAD83
HORIZONTAL_COORDINATE_SYSTEM: UTM
COORDINATE_ZONE: 13
HORIZONTAL_UNITS: METERS
HORIZONTAL_RESOLUTION: 1.00000
SECONDARY_HORIZONTAL_DATUM: NAD27
XY_ORIGIN: 358441.00000 5269681.00000
SECONDARY_XY_ORIGIN: 358483.43800 5269460.62500
NATION: US
NATION: "SCIENCE
STATE: MT
NW_QUAD_CORNER_XY: 358957.21000 5269379.26400
NE_QUAD_CORNER_XY: 363658.49600 5269267.57400
SE_QUAD_CORNERY_XY: 363496.36400 5262321.83200
SW_QUAD_CORNER_XY: 358789.48500 5262433.54200
SECONDARY_NW_QUAD_XY: 358952.81200 5269160.56100
SECONDARY_NE_QUAD_XY: 363654.24400 5269048.86800
SECONDARY_SE_QUAD_XY: 363492.11300 5262103.14700
SECONDARY_SW_QUAD_XY: 358785.08600 5262214.86100
RMSE_XY: 2.40000
IMAGE_SOURCE: BLACK AND WHITE FILM
SOURCE_IMAGE_ID: NAPP 10723 044
SOURCE_IMAGE_DATE: 1997 08 28
SOURCE_IMAGE_ID: NAPP 9085 107
SOURCE_IMAGE_DATE: 1996 06 13
SOURCE_IMAGE_ID: NAPP 10723 043
SOURCE_IMAGE_DATE: 1997 08 28
SOURCE_IMAGE_ID: NAPP 10723 045
SOURCE_IMAGE_DATE: 1997 08 28
SOURCE_IMAGE_ID: NAPP 9109 046
SOURCE_IMAGE_DATE: 1996 08 11
SOURCE_DEM_DATE: 1993 00 00
AGENCY: WESTERN MAPPING CENTER (WMC)
PRODUCER: UNDEFINED
PRODUCTION_SYSTEM: GIS/MAGIC
COMPRESSION: UNDEFINED
STANDARD_VERSION: 1996 12
METADATA_DATE: 2000 11 17
DATA_FILE_SIZE: 42292097
BYTE_COUNT: 5519
