FILENAME: O4710626.NWS.1112279.tif
QUADRANGLE_NAME: BUFFALO HILL
QUADRANT: NW
WEST_LONGITUDE: -106 52 30.00000
EAST_LONGITUDE: -106 48 45.00000
NORTH_LATITUDE: 47 37 30.00000
SOUTH_LATITUDE: 47 33 45.00000
PRODUCTION_DATE: 2000 11 13
RASTER_ORDER: LEFT_RIGHT/TOP_BOTTOM
BAND_ORGANIZATION: SINGLE FILE
BAND_CONTENT: BLACK&WHITE
BAND_CONTENT: UNDEFINED
BAND_CONTENT: UNDEFINED
BITS_PER_PIXEL: 8
SAMPLES_AND_LINES: 5513 7662
HORIZONTAL_DATUM: NAD83
HORIZONTAL_COORDINATE_SYSTEM: UTM
COORDINATE_ZONE: 13
HORIZONTAL_UNITS: METERS
HORIZONTAL_RESOLUTION: 1.00000
SECONDARY_HORIZONTAL_DATUM: NAD27
XY_ORIGIN: 358609.00000 5276627.00000
SECONDARY_XY_ORIGIN: 358651.40500 5276406.44000
NATION: US
NATION: "SCIENCE
STATE: MT
NW_QUAD_CORNER_XY: 359125.10500 5276325.05300
NE_QUAD_CORNER_XY: 363820.79100 5276213.38600
SE_QUAD_CORNERY_XY: 363658.49600 5269267.57400
SW_QUAD_CORNER_XY: 358957.21000 5269379.26400
SECONDARY_NW_QUAD_XY: 359120.70600 5276106.33000
SECONDARY_NE_QUAD_XY: 363816.53800 5275994.65900
SECONDARY_SE_QUAD_XY: 363654.24400 5269048.86800
SECONDARY_SW_QUAD_XY: 358952.81200 5269160.56100
RMSE_XY: 0.80000
IMAGE_SOURCE: BLACK AND WHITE FILM
SOURCE_IMAGE_ID: NAPP 10723 046
SOURCE_IMAGE_DATE: 1997 08 28
SOURCE_IMAGE_ID: NAPP 9085 107
SOURCE_IMAGE_DATE: 1996 06 13
SOURCE_IMAGE_ID: NAPP 10723 045
SOURCE_IMAGE_DATE: 1997 08 28
SOURCE_IMAGE_ID: NAPP 10723 047
SOURCE_IMAGE_DATE: 1997 08 28
SOURCE_IMAGE_ID: NAPP 9109 046
SOURCE_IMAGE_DATE: 1996 08 11
SOURCE_DEM_DATE: 1993 00 00
AGENCY: WESTERN MAPPING CENTER (WMC)
PRODUCER: UNDEFINED
PRODUCTION_SYSTEM: GIS/MAGIC
COMPRESSION: UNDEFINED
STANDARD_VERSION: 1996 12
METADATA_DATE: 2000 11 17
DATA_FILE_SIZE: 42246119
BYTE_COUNT: 5513
