FILENAME: O4710626.NES.1112278.tif
QUADRANGLE_NAME: BUFFALO HILL
QUADRANT: NE
WEST_LONGITUDE: -106 48 45.00000
EAST_LONGITUDE: -106 45 0.00000
NORTH_LATITUDE: 47 37 30.00000
SOUTH_LATITUDE: 47 33 45.00000
PRODUCTION_DATE: 2000 11 13
RASTER_ORDER: LEFT_RIGHT/TOP_BOTTOM
BAND_ORGANIZATION: SINGLE FILE
BAND_CONTENT: BLACK&WHITE
BAND_CONTENT: UNDEFINED
BAND_CONTENT: UNDEFINED
BITS_PER_PIXEL: 8
SAMPLES_AND_LINES: 5508 7659
HORIZONTAL_DATUM: NAD83
HORIZONTAL_COORDINATE_SYSTEM: UTM
COORDINATE_ZONE: 13
HORIZONTAL_UNITS: METERS
HORIZONTAL_RESOLUTION: 1.00000
SECONDARY_HORIZONTAL_DATUM: NAD27
XY_ORIGIN: 363310.00000 5276516.00000
SECONDARY_XY_ORIGIN: 363352.27700 5276295.49200
NATION: US
NATION: "SCIENCE
STATE: MT
NW_QUAD_CORNER_XY: 363820.79100 5276213.38600
NE_QUAD_CORNER_XY: 368516.49100 5276105.50600
SE_QUAD_CORNERY_XY: 368359.79600 5269159.67400
SW_QUAD_CORNER_XY: 363658.49600 5269267.57400
SECONDARY_NW_QUAD_XY: 363816.53800 5275994.65900
SECONDARY_NE_QUAD_XY: 368512.38500 5275886.77600
SECONDARY_SE_QUAD_XY: 368355.69000 5268940.96400
SECONDARY_SW_QUAD_XY: 363654.24400 5269048.86800
RMSE_XY: 1.50000
IMAGE_SOURCE: BLACK AND WHITE FILM
SOURCE_IMAGE_ID: NAPP 9109 047
SOURCE_IMAGE_DATE: 1996 08 11
SOURCE_IMAGE_ID: NAPP 10723 047
SOURCE_IMAGE_DATE: 1997 08 28
SOURCE_IMAGE_ID: NAPP 9109 046
SOURCE_IMAGE_DATE: 1996 08 11
SOURCE_IMAGE_ID: NAPP 9109 048
SOURCE_IMAGE_DATE: 1996 08 11
SOURCE_DEM_DATE: 1993 00 00
AGENCY: WESTERN MAPPING CENTER (WMC)
PRODUCER: UNDEFINED
PRODUCTION_SYSTEM: GIS/MAGIC
COMPRESSION: UNDEFINED
STANDARD_VERSION: 1996 12
METADATA_DATE: 2000 11 17
DATA_FILE_SIZE: 42191280
BYTE_COUNT: 5508
