FILENAME: O4710628.SWS.1112382.tif
QUADRANGLE_NAME: GILBERT CREEK SE
QUADRANT: SW
WEST_LONGITUDE: -106 37 30.00000
EAST_LONGITUDE: -106 33 45.00000
NORTH_LATITUDE: 47 33 45.00000
SOUTH_LATITUDE: 47 30 0.00000
PRODUCTION_DATE: 2000 11 15
RASTER_ORDER: LEFT_RIGHT/TOP_BOTTOM
BAND_ORGANIZATION: SINGLE FILE
BAND_CONTENT: BLACK&WHITE
BAND_CONTENT: UNDEFINED
BAND_CONTENT: UNDEFINED
BITS_PER_PIXEL: 8
SAMPLES_AND_LINES: 5495 7647
HORIZONTAL_DATUM: NAD83
HORIZONTAL_COORDINATE_SYSTEM: UTM
COORDINATE_ZONE: 13
HORIZONTAL_UNITS: METERS
HORIZONTAL_RESOLUTION: 1.00000
SECONDARY_HORIZONTAL_DATUM: NAD27
XY_ORIGIN: 377270.00000 5269257.00000
SECONDARY_XY_ORIGIN: 377311.83600 5269036.89500
NATION: US
NATION: "SCIENCE
STATE: MT
NW_QUAD_CORNER_XY: 377762.43600 5268955.23500
NE_QUAD_CORNER_XY: 382463.77600 5268858.69800
SE_QUAD_CORNERY_XY: 382324.01800 5261912.87700
SW_QUAD_CORNER_XY: 377617.08500 5262009.43300
SECONDARY_NW_QUAD_XY: 377758.62400 5268736.51900
SECONDARY_NE_QUAD_XY: 382460.11100 5268639.97900
SECONDARY_SE_QUAD_XY: 382320.35300 5261694.18000
SECONDARY_SW_QUAD_XY: 377613.27400 5261790.73800
RMSE_XY: 2.60000
IMAGE_SOURCE: BLACK AND WHITE FILM
SOURCE_IMAGE_ID: NAPP 9110 188
SOURCE_IMAGE_DATE: 1996 08 11
SOURCE_IMAGE_ID: NAPP 9111 108
SOURCE_IMAGE_DATE: 1996 08 11
SOURCE_DEM_DATE: 1993 00 00
AGENCY: WESTERN MAPPING CENTER (WMC)
PRODUCER: UNDEFINED
PRODUCTION_SYSTEM: GIS/MAGIC
COMPRESSION: UNDEFINED
STANDARD_VERSION: 1996 12
METADATA_DATE: 2000 11 16
DATA_FILE_SIZE: 42025760
BYTE_COUNT: 5495
